Workbook

Sheet content - الفهرس
A2: مؤشرات مسح الدخل والإنفاق الإستهلاكي للأسرة، المملكة العربية السعودية، لعام 2023 Household Income and Consumption Expenditure Survey Indicators, KSA, 2023
A3: 가계 소득 및 소비지출 조사 지표, KSA, 2023
A4: رقم الجدول Table Number | B4: المؤشرات الرئيسة Main Indicators | C4: 주요 지표
A5: 1-1 | B5: المؤشرات الرئيسة لمسح الدخل والإنفاق الإستهلاكي للأسرة Main Household Income and Consumption Expenditure Survey Indicators Nationality | C5: 국적별 가계 소득 및 소비지출 조사 주요 지표
A6: الإنفاق الاستهلاكي Consumption Expenditure | C6: 소비지출
A7: 1-3 | B7: متوسط الإنفاق الاستهلاكي الشهري للأسرة حسب المنطقة الإدارية والجنسية لرئيس الأسرة Average Household Monthly Consumption Expenditure by Administrative Region and Nationality of Household Head | C7: 지역별 및 가구주의 국적별 평균 가계 월 소비지출
A8: 2-3 | B8: وسيط الإنفاق الاستهلاكي الشهري للأسرة حسب المنطقة الإدارية والجنسية لرئيس الأسرة Median Household Monthly Consumption Expenditure by Administrative Region and Nationality of Household Head | C8: 지역별 및 가구주의 국적별 중위 가계 월 소비지출
A9: 3-3 | B9: متوسط الإنفاق الاستهلاكي الشهري للأسرة حسب الفئة العمرية والجنسية لرئيس الأسرة Average Household Monthly Consumption Expenditure by Age Group and Nationality of Household Head | C9: 연령대별 및 가구주의 국적별 평균 가계 월 소비지출
A10: 4-3 | B10: متوسط الإنفاق الاستهلاكي الشهري للأسرة حسب المستوى التعليمي والجنسية لرئيس الأسرة Average Household Monthly Consumption Expenditure by Educational Level and Nationality of Household Head | C10: 최종학력별 및 가구주의 국적별 평균 가계 월 소비지출
A11: 5-3 | B11: متوسط الإنفاق الاستهلاكي الشهري للأسرة حسب الحالة الزواجية والجنسية لرئيس الأسرة Average Household Monthly Consumption Expenditure by Marital Status and Nationality of Household Head | C11: 혼인상태별 및 가구주의 국적별 평균 가계 월 소비지출
A12: 6-3 | B12: متوسط الإنفاق الاستهلاكي الشهري للأسرة حسب نوع المسكن والجنسية لرئيس الأسرة Average Household Monthly Consumption Expenditure by Type of Dwelling and Nationality of Household Head | C12: 주거형태별 및 가구주의 국적별 평균 가계 월 소비지출
A13: 7-3 | B13: متوسط الإنفاق الاستهلاكي الشهري للأسرة حسب نوع الحيازة والجنسية لرئيس الأسرة Average Household Monthly Consumption Expenditure by Type of ownership and Nationality of Household Head | C13: 주거소유형태별 및 가구주의 국적별 평균 가계 월 소비지출
A14: 8-3 | B14: متوسط الإنفاق الاستهلاكي الشهري للأسرة حسب حجم الأسرة والجنسية لرئيس الأسرة Average Household Monthly Consumption Expenditure by Household Size and Nationality of Household Head | C14: 가구원수별 및 가구주의 국적별 평균 가계 월 소비지출
A15: 9-3 | B15: متوسط الإنفاق الاستهلاكي الشهري للفرد حسب المنطقة الإدارية والجنسية Average Per-Capita Monthly Consumption Expenditure by Administrative Region and Nationality | C15: 지역별 및 국적별 평균 1인당 월 소비지출
A16: 10-3 | B16: وسيط الإنفاق الاستهلاكي الشهري للفرد حسب المنطقة الإدارية والجنسية Median Per-Capita Monthly Consumption Expenditure by Administrative Region and Nationality | C16: 지역별 및 국적별 중위 1인당 월 소비지출
A17: الإنفاق الاستهلاكي النقدي النهائي Final Monetary Consumption Expenditure | C17: 최종소비지출
A18: 1-4 | B18: متوسط الإنفاق الاستهلاكي النقدي النهائي الشهري للأسرة حسب المنطقة الإدارية والجنسية لرئيس الأسرة Average Household Monthly Final Monetary Consumption Expenditure by Administrative Region and Nationality of Household Head | C18: 지역별 및 가구주 국적별 평균 가계 월 최종소비지출
A19: 2-4 | B19: وسيط الإنفاق الاستهلاكي النقدي النهائي الشهري للأسرة حسب المنطقة الإدارية والجنسية لرئيس الأسرة Median Household Monthly Final Monetary Consumption Expenditure by Administrative Region and Nationality of Household Head | C19: 지역별 및 가구주 국적별 중위 가계 월 최종소비지출
A20: 3-4 | B20: متوسط الإنفاق الاستهلاكي النقدي النهائي الشهري للأسرة حسب الفئة العمرية والجنسية لرئيس الأسرة Average Household Monthly Final Monetary Consumption Expenditure by Age Group and Nationality of Household Head | C20: 연령대별 및 가구주의 국적별 평균 가계 월 최종소비지출
A21: 4-4 | B21: متوسط الإنفاق الاستهلاكي النقدي النهائي الشهري للأسرة حسب المستوى التعليمي والجنسية لرئيس الأسرة Average Household Monthly Final Monetary Consumption Expenditure by Educational Level and Nationality of Household Head | C21: 최종학력별 및 가구주의 국적별 평균 가계 월 최종소비지출
A22: 5-4 | B22: متوسط الإنفاق الاستهلاكي النقدي النهائي الشهري للأسرة حسب الحالة الزواجية والجنسية لرئيس الأسرة Average Household Monthly Final Monetary Consumption Expenditure by Marital Status and Nationality of Household Head | C22: 혼인상태별 및 가구주의 국적별 평균 가계 월 최종소비지출
A23: 6-4 | B23: متوسط الإنفاق الاستهلاكي النقدي النهائي الشهري للأسرة حسب نوع المسكن والجنسية لرئيس الأسرة Average Household Monthly Final Monetary Consumption Expenditure by Type of Dwelling and Nationality of Household Head | C23: 주거형태별 및 가구주의 국적별 평균 가계 월 최종소비지출
A24: 7-4 | B24: متوسط الإنفاق الاستهلاكي النقدي النهائي الشهري للأسرة حسب نوع الحيازة والجنسية لرئيس الأسرة Average Household Monthly Final Monetary Consumption Expenditure by Type of ownership and Nationality of Household Head | C24: 주거소유형태별 및 가구주의 국적별 평균 가계 월 최종소비지출
A25: 8-4 | B25: متوسط الإنفاق الاستهلاكي النقدي النهائي الشهري للأسرة حسب حجم الأسرة والجنسية لرئيس الأسرة Average Household Monthly Final Monetary Consumption Expenditure by Household Size and Nationality of Household Head | C25: 가구원수별 및 가구주의 국적별 평균 가계 월 최종소비지출
A26: 9-4 | B26: متوسط الإنفاق الاستهلاكي النقدي النهائي الشهري للفرد حسب المنطقة الإدارية والجنسية Average Per-Capita Monthly Final Monetary Consumption Expenditure by Administrative Region and Nationality | C26: 지역별 및 국적별 평균 1인당 월 최종소비지출
A27: 10-4 | B27: وسيط الإنفاق الاستهلاكي النقدي النهائي الشهري للفرد حسب المنطقة الإدارية والجنسية Median Per-Capita Monthly Final Monetary Consumption Expenditure by Administrative Region and Nationality | C27: 지역별 및 국적별 중위 1인당 월 최종소비지출
A28: 11-4 | B28: متوسط الإنفاق الاستهلاكي النقدي النهائي الشهري للأسرة حسب مجموعات الإنفاق الرئيسة والجنسية لرئيس الأسرة Average Household Monthly Final Monetary Consumption Expenditure by COICOP Divisions and Nationality of Household Head | C28: COICOP 중분류별 및 가구주의 국적별 가계 월 최종소비지출 백분율
A29: 12-4 | B29: نسبة الإنفاق الاستهلاكي النقدي النهائي الشهري للأسرة حسب مجموعات الإنفاق الرئيسة والجنسية لرئيس الأسرة Percentage of Household Monthly Final Monetary Consumption Expenditure by COICOP Divisions and Nationality of Household Head | C29: COICOP 중분류별 및 가구주의 국적별 가계 월 최종소비지출 백분율
... A34: 17-4 | B34: نسبة الأسر التي تنفق على الصحة أكثر من 10% و 25% من إجمالي الإنفاق الاستهلاكي النقدي النهائي الشهري Percentage of Household Expenditure on health greater than 10% and 25% of Total Monthly Final Monetary Consumption Expenditure | C34: 월 최종소비지출의 10% 또는 25%를 초과하여 보건부문에 지출하는 비율
A35: الدخل المتاح Disposable Income | C35: 가처분 소득
A36: 1-2 | B36: متوسط الدخل الشهري المتاح للأسرة حسب المنطقة الإدارية والجنسية لرئيس الأسرة Average Household Monthly Disposable Income by Administrative Region and Nationality of Household Head | C36: 지역별 및 가구주의 국적별 평균 가계 월 가처분소득
A37: 2-2 | B37: وسيط الدخل الشهري المتاح للأسرة حسب المنطقة الإدارية والجنسية لرئيس الأسرة Median Household Monthly Disposable Income by Administrative Region and Nationality of Household Head | C37: 지역별 및 가구주의 국적별 중위 가계 월 가처분소득
A38: 3-2 | B38: متوسط الدخل الشهري المتاح للأسرة حسب الفئة العمرية والجنسية لرئيس الأسرة Average Household Monthly Disposable Income by Age Group and Nationality of Household Head | C38: 연령대별 및 가구주의 국적별 평균 가계 월 가처분소득
A39: 4-2 | B39: متوسط الدخل الشهري المتاح للأسرة حسب المستوى التعليمي والجنسية لرئيس الأسرة Average Household Monthly Disposable Income by Educational Level and Nationality of Household Head | C39: 최종학력별 및 가구주의 국적별 평균 가계 월 가처분소득
A40: 5-2 | B40: متوسط الدخل الشهري المتاح للأسرة حسب الحالة الزواجية والجنسية لرئيس الأسرة Average Household Monthly Disposable Income by Marital Status and Nationality of Household Head | C40: 혼인상태별 및 가구주의 국적별 평균 가계 월 가처분소득
A41: 6-2 | B41: متوسط الدخل الشهري المتاح للأسرة حسب نوع المسكن والجنسية لرئيس الأسرة Average Household Monthly Disposable Income by Type of Dwelling and Nationality of Household Head | C41: 주거형태별 및 가구주의 국적별 평균 가계 월 가처분소득
A42: 7-2 | B42: متوسط الدخل الشهري المتاح للأسرة حسب نوع الحيازة والجنسية لرئيس الأسرة Average Household Monthly Disposable Income by Type of ownership and Nationality of Household Head | C42: 주거소유형태별 및 가구주의 국적별 평균 가계 월 가처분소득
A43: 8-2 | B43: متوسط الدخل الشهري المتاح للأسرة حسب حجم الأسرة والجنسية لرئيس الأسرة Average Household Monthly Disposable Income by Household Size and Nationality of Household Head | C43: 가구원수별 및 가구주의 국적별 평균 가계 월 가처분소득
A44: 9-2 | B44: نسبة الدخل الشهري المتاح للأسرة حسب مصادر الدخل والجنسية لرئيس الأسرة Percentage of Household Monthly Disposable Income by Income Sources and Nationality of Household Head | C44: 소득원천별 및 가구주의 국적별 가계 월 가처분소득 백분율
A45: 10-2 | B45: متوسط الدخل الشهري المتاح للفرد حسب المنطقة الإدارية والجنسية Average Per-Capita Monthly Disposable Income by Administrative Region and Nationality | C45: 지역별 및 국적별 평균 1인당 월 가처분소득
A46: 11-2 | B46: وسيط الدخل الشهري المتاح للفرد حسب المنطقة الإدارية والجنسية Median Per-Capita Monthly Disposable Income by Administrative Region and Nationality | C46: 지역별 및 국적별 중위 1인당 월 가처분소득
A47: 12-2 | B47: نسبة الدخل الشهري المتاح للفرد حسب مصادر الدخل والجنسية Percentage of Per-Capita Monthly Disposable Income by Income Sources and Nationality | C47: 소득원천별 및 국적별 1인당 월 가처분소득 백분율

Sheet 1-1
D1: الفهرس content
A2: المؤشرات الرئيسة لمسح الدخل والإنفاق الإستهلاكي للأسرة Main Household Income and Consumption Expenditure Survey Indicators Nationality
A3: =VLOOKUP(A2,'content - الفهرس'!$B$4:$C$34,2,0) -> 국적별 가계 소득 및 소비지출 조사 주요 지표
A4: جدول (1-1) (1-1) Table
A5: المؤشرات الرئيسة لمسح الدخل والإنفاق الإستهلاكي للأسرة Main Household Income and Consumption Expenditure Survey Indicators Nationality 가계 소득 및 소비지출 조사 주요 지표 | B5: الجنسية Nationality (국적)
B6: السعوديين Saudi | C6: غير السعوديين Non Saudi | D6: الإجمالي Total
A7: الدخل المتاح Disposable Income 가처분소득
A8: متوسط الدخل الشهري المتاح للأسرة Average Household Monthly Disposable Income 평균 가계 월 가처분소득 | B8: 18056 | C8: 5428 | D8: 11839
A9: وسيط الدخل الشهري المتاح للأسرة Median Household Monthly Disposable Income 중위 가계 월 가처분소득 | B9: 13655 | C9: 3657 | D9: 7362
A10: متوسط الدخل الشهري المتاح للفرد Average Per-capita Monthly Disposable Income 평균 1인당 월 가처분소득 | B10: 3977 | C10: 1908 | D10: 3195
A11: وسيط الدخل الشهري المتاح للفرد Median Per-capita Monthly Disposable Income 중위 1인당 월 가처분소득 | B11: 2896 | C11: 1372 | D11: 2220
A12: الإنفاق الاستهلاكي Consumption Expenditure 소비지출
A13: متوسط الإنفاق الاستهلاكي الشهري للأسرة Average Household Monthly Consumption Expenditure 평균 가계 월 소비지출 | B13: 16028 | C13: 5574 | D13: 10884
A14: وسيط الإنفاق الاستهلاكي الشهري للأسرة Median Household Monthly Consumption Expenditure 중위 가계 월 소비지출 | B14: 12767 | C14: 4437 | D14: 7654
A15: متوسط الإنفاق الاستهلاكي الشهري للفرد Average Monthly Consumption Expenditure Per-capita 평균 1인당 월 소비지출 | B15: 3533 | C15: 1961 | D15: 2939
A16: وسيط الإنفاق الاستهلاكي الشهري للفرد Median Monthly Consumption Expenditure Per-capita 중위 1인당 월 소비지출 | B16: 2803 | C16: 1665 | D16: 2260
A17: الإنفاق الاستهلاكي النقدي النهائي Final Monetary Consumption Expenditure 최종소비지출
A18: متوسط الإنفاق الاستهلاكي النقدي النهائي الشهري للأسرة Average Household Monthly Final Monetary Consumption Expenditure 평균 가계 월 최종소비지출 | B18: 13536 | C18: 5188 | D18: 9426
A19: وسيط الإنفاق الاستهلاكي النقدي النهائي الشهري للأسرة Median Household Monthly Final Monetary Consumption Expenditure 중위 가계 월 최종소비지출 | B19: 10659 | C19: 4144 | D19: 6670
A20: متوسط الإنفاق الاستهلاكي النقدي النهائي الشهري للفرد Average Monthly Final Monetary Consumption Expenditure Per-capita 평균 1인당 월 최종소비지출 | B20: 2984 | C20: 1825 | D20: 2546
A21: وسيط الإنفاق الاستهلاكي النقدي النهائي الشهري للفرد Median Monthly Final Monetary Consumption Expenditure Per-capita 중위 1인당 월 최종소비지출 | B21: 2353 | C21: 1515 | D21: 1952
A22: المصدر: مسح الدخل والإنفاق الإستهلاكي للأسرة 2023 - الهيئة العامة للإحصاء The Source: Household Income and Consumption Expenditure Survey 2023 - General Authority for Statistics
A23: *لأول مره في مسح الدخل والإنفاق الإستهلاكي للأسرة لعام 2023 يتم استخدام منهجية احتساب الدخل المتاح والإنفاق الإستهلاكي للأسرة For the first time the methodology for calculating household disposable income and consumption expenditure is used in Household Income and Consumption Expenditure Survey of 2023

Sheet 1-3
D1: الفهرس content
A2: متوسط الإنفاق الاستهلاكي الشهري للأسرة حسب المنطقة الإدارية والجنسية لرئيس الأسرة Average Household Monthly Consumption Expenditure by Administrative Region and Nationality of Household Head
A3: =VLOOKUP(A2,'content - الفهرس'!$B$4:$C$34,2,0) -> 지역별 및 가구주의 국적별 평균 가계 월 소비지출
A4: جدول (3-1) (1-3) Table
A5: المنطقة الإدارية Administrative Region 행정지역 | B5: الجنسية Nationality (국적)
B6: السعوديين Saudi | C6: غير السعوديين Non Saudi | D6: الإجمالي Total
A7: الرياض Riyadh | B7: 21971 | C7: 6003 | D7: 13000
A8: مكة المكرمة Makkah | B8: 12977 | C8: 5811 | D8: 9146
A9: المدينة المنورة Madinah | B9: 12355 | C9: 5200 | D9: 9317
A10: القصيم Qassim | B10: 13628 | C10: 4175 | D10: 9983
A11: المنطقة الشرقية Eastern Province | B11: 17898 | C11: 5345 | D11: 11509
A12: عسير Asir | B12: 12864 | C12: 4222 | D12: 9701
A13: تبوك Tabuk | B13: 12403 | C13: 5146 | D13: 9722
A14: حائل Hail | B14: 11891 | C14: 3776 | D14: 8600
A15: الحدود الشمالية Northern Border | B15: 13989 | C15: 5687 | D15: 11310
A16: جازان Jazan | B16: 16583 | C16: 6657 | D16: 13353
A17: نجران Najran | B17: 10857 | C17: 4205 | D17: 8159
A18: الباحة AL - Baha | B18: 14459 | C18: 4826 | D18: 11346
... A20: الإجمالي Total | B20: 16028 | C20: 5574 | D20: 10884
A21: المصدر: مسح الدخل والإنفاق الإستهلاكي للأسرة 2023 - الهيئة العامة للإحصاء The Source: Household Income and Consumption Expenditure Survey 2023 - General Authority for Statistics
A22: *لأول مره في مسح الدخل والإنفاق الإستهلاكي للأسرة لعام 2023 يتم استخدام منهجية احتساب الدخل المتاح والإنفاق الإستهلاكي للأسرة For the first time the methodology for calculating household disposable income and consumption expenditure is used in Household Income and Consumption Expenditure Survey of 2023

Sheet 2-3
D1: الفهرس content
A2: وسيط الإنفاق الاستهلاكي الشهري للأسرة حسب المنطقة الإدارية والجنسية لرئيس الأسرة Median Household Monthly Consumption Expenditure by Administrative Region and Nationality of Household Head
A3: =VLOOKUP(A2,'content - الفهرس'!$B$4:$C$34,2,0) -> 지역별 및 가구주의 국적별 중위 가계 월 소비지출
A4: جدول (3-2) (2-3) Table
A5: المنطقة الإدارية Administrative Region 행정지역 | B5: الجنسية Nationality (국적)
B6: السعوديين Saudi | C6: غير السعوديين Non Saudi | D6: الإجمالي Total
A7: الرياض Riyadh | B7: 17178 | C7: 4582 | D7: 7952
A8: مكة المكرمة Makkah | B8: 11154 | C8: 4757 | D8: 7098
A9: المدينة المنورة Madinah | B9: 10689 | C9: 4532 | D9: 7632
A10: القصيم Qassim | B10: 11399 | C10: 3464 | D10: 7589
A11: المنطقة الشرقية Eastern Province | B11: 14545 | C11: 4267 | D11: 7483
A12: عسير Asir | B12: 10799 | C12: 3736 | D12: 7464
A13: تبوك Tabuk | B13: 10875 | C13: 4389 | D13: 8079
A14: حائل Hail | B14: 10541 | C14: 3220 | D14: 6356
A15: الحدود الشمالية Northern Border | B15: 12273 | C15: 4916 | D15: 9689
A16: جازان Jazan | B16: 14113 | C16: 5183 | D16: 11008
A17: نجران Najran | B17: 9188 | C17: 3161 | D17: 6448
A18: الباحة AL - Baha | B18: 12955 | C18: 3581 | D18: 9393
... A20: الإجمالي Total | B20: 12767 | C20: 4437 | D20: 7654
A21: المصدر: مسح الدخل والإنفاق الإستهلاكي للأسرة 2023 - الهيئة العامة للإحصاء The Source: Household Income and Consumption Expenditure Survey 2023 - General Authority for Statistics
A22: *لأول مره في مسح الدخل والإنفاق الإستهلاكي للأسرة لعام 2023 يتم استخدام منهجية احتساب الدخل المتاح والإنفاق الإستهلاكي للأسرة For the first time the methodology for calculating household disposable income and consumption expenditure is used in Household Income and Consumption Expenditure Survey of 2023

Sheet 3-3
D1: الفهرس content
A2: متوسط الإنفاق الاستهلاكي الشهري للأسرة حسب الفئة العمرية والجنسية لرئيس الأسرة Average Household Monthly Consumption Expenditure by Age Group and Nationality of Household Head
A3: =VLOOKUP(A2,'content - الفهرس'!$B$4:$C$34,2,0) -> 연령대별 및 가구주의 국적별 평균 가계 월 소비지출
A4: جدول (3-3) (3-3) Table
A5: الفئات العمرية Age Group 연령대 | B5: الجنسية Nationality (국적)
B6: السعوديين Saudi | C6: غير السعوديين Non Saudi | D6: الإجمالي Total
A7: 15 - 19 | B7: 6989 | C7: 4874 | D7: 6761
A8: 20 - 24 | B8: 8614 | C8: 3910 | D8: 6586
A9: 25 - 29 | B9: 10128 | C9: 4490 | D9: 7096
A10: 30 - 34 | B10: 12175 | C10: 4921 | D10: 8435
A11: 35 - 39 | B11: 15186 | C11: 5552 | D11: 9674
A12: 40 - 44 | B12: 16534 | C12: 5482 | D12: 10550
A13: 45 - 49 | B13: 18740 | C13: 5639 | D13: 12136
A14: 50 - 54 | B14: 20639 | C14: 5656 | D14: 13419
A15: 55 - 59 | B15: 21689 | C15: 7113 | D15: 15163
A16: 60 - 64 | B16: 19378 | C16: 7995 | D16: 14853
A17: 65+ | B17: 16033 | C17: 7220 | D17: 14118
A18: الإجمالي Total | B18: 16028 | C18: 5574 | D18: 10884
A19: المصدر: مسح الدخل والإنفاق الإستهلاكي للأسرة 2023 - الهيئة العامة للإحصاء The Source: Household Income and Consumption Expenditure Survey 2023 - General Authority for Statistics
A20: *لأول مره في مسح الدخل والإنفاق الإستهلاكي للأسرة لعام 2023 يتم استخدام منهجية احتساب الدخل المتاح والإنفاق الإستهلاكي للأسرة For the first time the methodology for calculating household disposable income and consumption expenditure is used in Household Income and Consumption Expenditure Survey of 2023

Sheet 4-3 
E1: الفهرس content
A2: متوسط الإنفاق الاستهلاكي الشهري للأسرة حسب المستوى التعليمي والجنسية لرئيس الأسرة Average Household Monthly Consumption Expenditure by Educational Level and Nationality of Household Head
A3: =VLOOKUP(A2,'content - الفهرس'!$B$4:$C$34,2,0) -> 최종학력별 및 가구주의 국적별 평균 가계 월 소비지출
A4: جدول (3-4) (4-3) Table
A5: المستوى التعليمي Educational Level | B5: 최종학력 | C5: الجنسية Nationality (국적)
C6: السعوديين Saudi | D6: غير السعوديين Non Saudi | E6: الإجمالي Total
A7: لا يوجد شهادة تعليمية No schooling | B7: 미취학 | C7: 9042 | D7: 4026 | E7: 6824
A8: تعليم الطفولة المبكرة Early childhood education | B8: 영유아교육 | C8: 11169 | D8: 5350 | E8: 7705
A9: تعليم ابتدائي Primary education | B9: 초등학교 | C9: 13114 | D9: 4495 | E9: 7551
A10: تعليم متوسط Intermediate education | B10: 중학교 | C10: 15456 | D10: 4456 | E10: 7216
A11: تعليم ثانوي Secondary education | B11: 고등학교 | C11: 13752 | D11: 5113 | E11: 9465
A12: دبلوم مشارك Associate diploma | B12: 준학사학위 | C12: 14633 | D12: 6036 | E12: 11101
A13: دبلوم متوسط Intermediate diploma | B13: 중급학위 | C13: 16506 | D13: 5531 | E13: 11533
A14: بكالوريوس أو ما يعادلها Bachelor’s or equivalent level | B14: 학사 또는 이에 상응하는 교육단계 | C14: 18060 | D14: 7986 | E14: 14743
A15: دبلوم عالي Higher diploma | B15: 고급학위 | C15: 19979 | D15: 8315 | E15: 16680
A16: ماجستير أو ما يعادلها Master’s or equivalent level | B16: 석사 또는 이에 상응하는 교육단계 | C16: 27148 | D16: 10413 | E16: 21274
A17: دكتوراه Doctoral or equivalent level | B17: 박사 또는 이에 상응하는 교육단계 | C17: 29518 | D17: 11288 | E17: 21793
A18: الإجمالي Total | B18: 전체 | C18: 16028 | D18: 5574 | E18: 10884
A19: المصدر: مسح الدخل والإنفاق الإستهلاكي للأسرة 2023 - الهيئة العامة للإحصاء The Source: Household Income and Consumption Expenditure Survey 2023 - General Authority for Statistics
A20: *لأول مره في مسح الدخل والإنفاق الإستهلاكي للأسرة لعام 2023 يتم استخدام منهجية احتساب الدخل المتاح والإنفاق الإستهلاكي للأسرة For the first time the methodology for calculating household disposable income and consumption expenditure is used in Household Income and Consumption Expenditure Survey of 2023

Sheet 5-3
E1: الفهرس content
A2: متوسط الإنفاق الاستهلاكي الشهري للأسرة حسب الحالة الزواجية والجنسية لرئيس الأسرة Average Household Monthly Consumption Expenditure by Marital Status and Nationality of Household Head
A3: =VLOOKUP(A2,'content - الفهرس'!$B$4:$C$34,2,0) -> 혼인상태별 및 가구주의 국적별 평균 가계 월 소비지출
A4: جدول (3-5) (5-3) Table
A5: الحالة الزواجية Marital Status | B5: 혼인상태 | C5: الجنسية Nationality (국적)
C6: السعوديين Saudi | D6: غير السعوديين Non Saudi | E6: الإجمالي Total
A7: لم يتزوج أبدا Never Married | B7: 미혼 | C7: 9206 | D7: 4542 | E7: 6208
A8: متزوج Married | B8: 유배우 | C8: 17519 | D8: 5760 | E8: 11567
A9: مطلق Divorced | B9: 이혼 | C9: 12046 | D9: 5774 | E9: 11046
A10: أرمل Widowed | B10: 사별 | C10: 11079 | D10: 6323 | E10: 10823
A11: الإجمالي Total | B11: 전체 | C11: 16028 | D11: 5574 | E11: 10884
A12: المصدر: مسح الدخل والإنفاق الإستهلاكي للأسرة 2023 - الهيئة العامة للإحصاء The Source: Household Income and Consumption Expenditure Survey 2023 - General Authority for Statistics
A13: *لأول مره في مسح الدخل والإنفاق الإستهلاكي للأسرة لعام 2023 يتم استخدام منهجية احتساب الدخل المتاح والإنفاق الإستهلاكي للأسرة For the first time the methodology for calculating household disposable income and consumption expenditure is used in Household Income and Consumption Expenditure Survey of 2023

Sheet 6-3
E1: الفهرس content
A2: متوسط الإنفاق الاستهلاكي الشهري للأسرة حسب نوع المسكن والجنسية لرئيس الأسرة Average Household Monthly Consumption Expenditure by Type of Dwelling and Nationality of Household Head
A3: =VLOOKUP(A2,'content - الفهرس'!$B$4:$C$34,2,0) -> 주거형태별 및 가구주의 국적별 평균 가계 월 소비지출
A4: جدول (3-6) (6-3) Table
A5: نوع المسكن Type of Dwelling | B5: 주거형태 | C5: الجنسية Nationality (국적)
C6: السعوديين Saudi | D6: غير السعوديين Non Saudi | E6: الإجمالي Total
A7: فيلا Villa | B7: 빌라 | C7: 25056 | D7: 18774 | E7: 24830
A8: دور في فيلا Storey in Villa | B8: 다층빌라 | C8: 15462 | D8: 12052 | E8: 15080
A9: شقة Apartment | B9: 아파트 | C9: 11992 | D9: 5574 | E9: 8003
A10: منزل شعبي Traditional house | B10: 전통주택 | C10: 10890 | D10: 5054 | E10: 8295
A11: دور في منزل شعبي Storey in traditional house | B11: 다층전통주택 | C11: 13266 | D11: 5908 | E11: 7987
A12: اخرى Other | B12: 기타 | C12: 13539 | D12: 2600 | E12: 3362
A13: الإجمالي Total | B13: 전체 | C13: 16028 | D13: 5574 | E13: 10884
A14: المصدر: مسح الدخل والإنفاق الإستهلاكي للأسرة 2023 - الهيئة العامة للإحصاء The Source: Household Income and Consumption Expenditure Survey 2023 - General Authority for Statistics
A15: *لأول مره في مسح الدخل والإنفاق الإستهلاكي للأسرة لعام 2023 يتم استخدام منهجية احتساب الدخل المتاح والإنفاق الإستهلاكي للأسرة For the first time the methodology for calculating household disposable income and consumption expenditure is used in Household Income and Consumption Expenditure Survey of 2023

Sheet 7-3
E1: الفهرس content
A2: متوسط الإنفاق الاستهلاكي الشهري للأسرة حسب نوع الحيازة والجنسية لرئيس الأسرة Average Household Monthly Consumption Expenditure by Type of ownership and Nationality of Household Head
A3: =VLOOKUP(A2,'content - الفهرس'!$B$4:$C$34,2,0) -> 주거소유형태별 및 가구주의 국적별 평균 가계 월 소비지출
A4: جدول (3-7) (7-3) Table
A5: نوع الحيازة Type of ownership | B5: 주거소유형태 | C5: الجنسية Nationality (국적)
C6: السعوديين Saudi | D6: غير السعوديين Non Saudi | E6: الإجمالي Total
A7: مملوك Owned | B7: 자가 | C7: 18786 | D7: 9839 | E7: 18642
A8: مستأجر Rented | B8: 임대 | C8: 12006 | D8: 6111 | E8: 8134
A9: مقدم من العمل Provided by an employer | B9: 사택 | C9: 18866 | D9: 4250 | E9: 4931
A10: مقدم من الغير Provided by others | B10: 기타 제공 | C10: 12004 | D10: 5217 | E10: 11328
A11: أخرى Other | B11: 기타 | C11: 17080 | D11: 5739 | E11: 14499
A12: الإجمالي Total | B12: 전체 | C12: 16028 | D12: 5574 | E12: 10884
A13: المصدر: مسح الدخل والإنفاق الإستهلاكي للأسرة 2023 - الهيئة العامة للإحصاء The Source: Household Income and Consumption Expenditure Survey 2023 - General Authority for Statistics
A14: *لأول مره في مسح الدخل والإنفاق الإستهلاكي للأسرة لعام 2023 يتم استخدام منهجية احتساب الدخل المتاح والإنفاق الإستهلاكي للأسرة For the first time the methodology for calculating household disposable income and consumption expenditure is used in Household Income and Consumption Expenditure Survey of 2023

Sheet 8-3
D1: الفهرس content
A2: متوسط الإنفاق الاستهلاكي الشهري للأسرة حسب حجم الأسرة والجنسية لرئيس الأسرة Average Household Monthly Consumption Expenditure by Household Size and Nationality of Household Head
A3: =VLOOKUP(A2,'content - الفهرس'!$B$4:$C$34,2,0) -> 가구원수별 및 가구주의 국적별 평균 가계 월 소비지출
A4: جدول (3-8) (8-3) Table
A5: حجم الأسرة Household Size 가구원수 | B5: الجنسية Nationality (국적)
B6: السعوديين Saudi | C6: غير السعوديين Non Saudi | D6: الإجمالي Total
A7: 1-2 | B7: 9327 | C7: 3925 | D7: 5564
A8: 3-4 | B8: 14797 | C8: 6257 | D8: 10316
A9: 5+ | B9: 19831 | C9: 10077 | D9: 17689
A10: الإجمالي Total | B10: 16028 | C10: 5574 | D10: 10884
A11: المصدر: مسح الدخل والإنفاق الإستهلاكي للأسرة 2023 - الهيئة العامة للإحصاء The Source: Household Income and Consumption Expenditure Survey 2023 - General Authority for Statistics
A12: *لأول مره في مسح الدخل والإنفاق الإستهلاكي للأسرة لعام 2023 يتم استخدام منهجية احتساب الدخل المتاح والإنفاق الإستهلاكي للأسرة For the first time the methodology for calculating household disposable income and consumption expenditure is used in Household Income and Consumption Expenditure Survey of 2023

Sheet 9-3
D1: الفهرس content
A2: متوسط الإنفاق الاستهلاكي الشهري للفرد حسب المنطقة الإدارية والجنسية Average Per-Capita Monthly Consumption Expenditure by Administrative Region and Nationality
A3: =VLOOKUP(A2,'content - الفهرس'!$B$4:$C$34,2,0) -> 지역별 및 국적별 평균 1인당 월 소비지출
A4: جدول (3-9) (9-3) Table
A5: المنطقة الإدارية Administrative Region 행정지역 | B5: الجنسية Nationality (국적)
B6: السعوديين Saudi | C6: غير السعوديين Non Saudi | D6: الإجمالي Total
A7: الرياض Riyadh | B7: 5020 | C7: 2204 | D7: 3770
A8: مكة المكرمة Makkah | B8: 3019 | C8: 1930 | D8: 2533
A9: المدينة المنورة Madinah | B9: 2703 | C9: 1599 | D9: 2323
A10: القصيم Qassim | B10: 2846 | C10: 1452 | D10: 2464
A11: المنطقة الشرقية Eastern Province | B11: 4071 | C11: 1963 | D11: 3247
A12: عسير Asir | B12: 2736 | C12: 1676 | D12: 2486
A13: تبوك Tabuk | B13: 2553 | C13: 1764 | D13: 2348
A14: حائل Hail | B14: 2360 | C14: 1745 | D14: 2220
A15: الحدود الشمالية Northern Border | B15: 2513 | C15: 1695 | D15: 2331
A16: جازان Jazan | B16: 3310 | C16: 1976 | D16: 2983
A17: نجران Najran | B17: 2036 | C17: 1433 | D17: 1872
A18: الباحة AL - Baha | B18: 3211 | C18: 2052 | D18: 2979
... A20: الإجمالي Total | B20: 3533 | C20: 1961 | D20: 2939
A21: المصدر: مسح الدخل والإنفاق الإستهلاكي للأسرة 2023 - الهيئة العامة للإحصاء The Source: Household Income and Consumption Expenditure Survey 2023 - General Authority for Statistics
A22: *لأول مره في مسح الدخل والإنفاق الإستهلاكي للأسرة لعام 2023 يتم استخدام منهجية احتساب الدخل المتاح والإنفاق الإستهلاكي للأسرة For the first time the methodology for calculating household disposable income and consumption expenditure is used in Household Income and Consumption Expenditure Survey of 2023

Sheet 10-3
D1: الفهرس content
A2: وسيط الإنفاق الاستهلاكي الشهري للفرد حسب المنطقة الإدارية والجنسية Median Per-Capita Monthly Consumption Expenditure by Administrative Region and Nationality
A3: =VLOOKUP(A2,'content - الفهرس'!$B$4:$C$34,2,0) -> 지역별 및 국적별 중위 1인당 월 소비지출
A4: جدول (3-10) (10-3) Table
A5: المنطقة الإدارية Administrative Region 행정지역 | B5: الجنسية Nationality (국적)
B6: السعوديين Saudi | C6: غير السعوديين Non Saudi | D6: الإجمالي Total
A7: الرياض Riyadh | B7: 4053 | C7: 1804 | D7: 2820
A8: مكة المكرمة Makkah | B8: 2508 | C8: 1675 | D8: 2057
A9: المدينة المنورة Madinah | B9: 2313 | C9: 1408 | D9: 1954
A10: القصيم Qassim | B10: 2420 | C10: 1199 | D10: 2047
A11: المنطقة الشرقية Eastern Province | B11: 3355 | C11: 1647 | D11: 2463
A12: عسير Asir | B12: 2326 | C12: 1581 | D12: 2131
A13: تبوك Tabuk | B13: 2258 | C13: 1558 | D13: 2080
A14: حائل Hail | B14: 2023 | C14: 1610 | D14: 1881
A15: الحدود الشمالية Northern Border | B15: 2258 | C15: 1490 | D15: 2097
A16: جازان Jazan | B16: 2922 | C16: 1660 | D16: 2613
A17: نجران Najran | B17: 1892 | C17: 1318 | D17: 1667
A18: الباحة AL - Baha | B18: 2707 | C18: 1645 | D18: 2595
... A20: الإجمالي Total | B20: 2803 | C20: 1665 | D20: 2260
A21: المصدر: مسح الدخل والإنفاق الإستهلاكي للأسرة 2023 - الهيئة العامة للإحصاء The Source: Household Income and Consumption Expenditure Survey 2023 - General Authority for Statistics
A22: *لأول مره في مسح الدخل والإنفاق الإستهلاكي للأسرة لعام 2023 يتم استخدام منهجية احتساب الدخل المتاح والإنفاق الإستهلاكي للأسرة For the first time the methodology for calculating household disposable income and consumption expenditure is used in Household Income and Consumption Expenditure Survey of 2023

Sheet 1-4
D1: الفهرس content
A2: متوسط الإنفاق الاستهلاكي النقدي النهائي الشهري للأسرة حسب المنطقة الإدارية والجنسية لرئيس الأسرة Average Household Monthly Final Monetary Consumption Expenditure by Administrative Region and Nationality of Household Head
A3: =VLOOKUP(A2,'content - الفهرس'!$B$4:$C$34,2,0) -> 지역별 및 가구주 국적별 평균 가계 월 최종소비지출
A4: جدول (4-1) (1-4) Table
A5: المنطقة الإدارية Administrative Region 행정지역 | B5: الجنسية Nationality (국적)
B6: السعوديين Saudi | C6: غير السعوديين Non Saudi | D6: الإجمالي Total
A7: الرياض Riyadh | B7: 17366.121 | C7: 5436.498 | D7: 10664.321
A8: مكة المكرمة Makkah | B8: 11006.836 | C8: 5467.6547 | D8: 8040.6486
A9: المدينة المنورة Madinah | B9: 11461.449 | C9: 5134.8991 | D9: 8775.1074
A10: القصيم Qassim | B10: 11325.817 | C10: 3702.6803 | D10: 8386.5563
A11: المنطقة الشرقية Eastern Province | B11: 15418.134 | C11: 4954.0187 | D11: 10091.931
A12: عسير Asir | B12: 10969.718 | C12: 4026.2981 | D12: 8428.6763
A13: تبوك Tabuk | B13: 11490.063 | C13: 4994.3488 | D13: 9090.397
A14: حائل Hail | B14: 9856.5629 | C14: 3486.8198 | D14: 7273.1734
A15: الحدود الشمالية Northern Border | B15: 12214.533 | C15: 5733.7902 | D15: 10122.866
A16: جازان Jazan | B16: 15809.056 | C16: 6683.3548 | D16: 12838.786
A17: نجران Najran | B17: 9393.5677 | C17: 3552.3606 | D17: 7024.8297
A18: الباحة AL - Baha | B18: 13987.399 | C18: 4714.7721 | D18: 10990.755
... A20: الإجمالي Total | B20: 13535.68 | C20: 5187.5936 | D20: 9425.7719
A21: المصدر: مسح الدخل والإنفاق الإستهلاكي للأسرة 2023 - الهيئة العامة للإحصاء The Source: Household Income and Consumption Expenditure Survey 2023 - General Authority for Statistics
A22: *لأول مره في مسح الدخل والإنفاق الإستهلاكي للأسرة لعام 2023 يتم استخدام منهجية احتساب الدخل المتاح والإنفاق الإستهلاكي للأسرة For the first time the methodology for calculating household disposable income and consumption expenditure is used in Household Income and Consumption Expenditure Survey of 2023

Sheet 2-4
D1: الفهرس content
A2: وسيط الإنفاق الاستهلاكي النقدي النهائي الشهري للأسرة حسب المنطقة الإدارية والجنسية لرئيس الأسرة Median Household Monthly Final Monetary Consumption Expenditure by Administrative Region and Nationality of Household Head
A3: =VLOOKUP(A2,'content - الفهرس'!$B$4:$C$34,2,0) -> 지역별 및 가구주 국적별 중위 가계 월 최종소비지출
A4: جدول (4-2) (2-4) Table
A5: المنطقة الإدارية Administrative Region 행정지역 | B5: الجنسية Nationality (국적)
B6: السعوديين Saudi | C6: غير السعوديين Non Saudi | D6: الإجمالي Total
A7: الرياض Riyadh | B7: 13755.121 | C7: 4236.238 | D7: 7268.3854
A8: مكة المكرمة Makkah | B8: 8738.9889 | C8: 4425.9373 | D8: 6043.379
A9: المدينة المنورة Madinah | B9: 9786.9266 | C9: 4334.5171 | D9: 7040.1109
A10: القصيم Qassim | B10: 9010.2382 | C10: 2992.3594 | D10: 6047.3598
A11: المنطقة الشرقية Eastern Province | B11: 12422.667 | C11: 3907.1253 | D11: 6679.8801
A12: عسير Asir | B12: 8874.0641 | C12: 3521.8181 | D12: 6206.2446
A13: تبوك Tabuk | B13: 10006.412 | C13: 4307.7398 | D13: 7496.0185
A14: حائل Hail | B14: 8237.2521 | C14: 2867.352 | D14: 5299.0188
A15: الحدود الشمالية Northern Border | B15: 10600.472 | C15: 5145.343 | D15: 8491.098
A16: جازان Jazan | B16: 13192.811 | C16: 5144.5656 | D16: 10186.057
A17: نجران Najran | B17: 7865.9568 | C17: 2643.8654 | D17: 5200.7811
A18: الباحة AL - Baha | B18: 11445.319 | C18: 3366.745 | D18: 8319.2666
... A20: الإجمالي Total | B20: 10659.087 | C20: 4144.4179 | D20: 6670.4925
A21: المصدر: مسح الدخل والإنفاق الإستهلاكي للأسرة 2023 - الهيئة العامة للإحصاء The Source: Household Income and Consumption Expenditure Survey 2023 - General Authority for Statistics
A22: *لأول مره في مسح الدخل والإنفاق الإستهلاكي للأسرة لعام 2023 يتم استخدام منهجية احتساب الدخل المتاح والإنفاق الإستهلاكي للأسرة For the first time the methodology for calculating household disposable income and consumption expenditure is used in Household Income and Consumption Expenditure Survey of 2023

Sheet 3-4
D1: الفهرس content
A2: متوسط الإنفاق الاستهلاكي النقدي النهائي الشهري للأسرة حسب الفئة العمرية والجنسية لرئيس الأسرة Average Household Monthly Final Monetary Consumption Expenditure by Age Group and Nationality of Household Head
A3: =VLOOKUP(A2,'content - الفهرس'!$B$4:$C$34,2,0) -> 연령대별 및 가구주의 국적별 평균 가계 월 최종소비지출
A4: جدول (4-3) (3-4) Table
A5: الفئات العمرية Age Group 연령대 | B5: الجنسية Nationality (국적)
B6: السعوديين Saudi | C6: غير السعوديين Non Saudi | D6: الإجمالي Total
A7: 15 - 19 | B7: 6528 | C7: 5206 | D7: 6385
A8: 20 - 24 | B8: 7788 | C8: 3474 | D8: 5929
A9: 25 - 29 | B9: 9439 | C9: 4123 | D9: 6580
A10: 30 - 34 | B10: 11156 | C10: 4652 | D10: 7802
A11: 35 - 39 | B11: 13525 | C11: 5158 | D11: 8737
A12: 40 - 44 | B12: 14364 | C12: 5153 | D12: 9377
A13: 45 - 49 | B13: 15736 | C13: 5266 | D13: 10458
A14: 50 - 54 | B14: 16225 | C14: 5149 | D14: 10888
A15: 55 - 59 | B15: 16804 | C15: 6509 | D15: 12194
A16: 60 - 64 | B16: 14718 | C16: 7470 | D16: 11796
A17: 65+ | B17: 13118 | C17: 6771 | D17: 11739
A18: الإجمالي Total | B18: 13536 | C18: 5188 | D18: 9426
A19: المصدر: مسح الدخل والإنفاق الإستهلاكي للأسرة 2023 - الهيئة العامة للإحصاء The Source: Household Income and Consumption Expenditure Survey 2023 - General Authority for Statistics
A20: *لأول مره في مسح الدخل والإنفاق الإستهلاكي للأسرة لعام 2023 يتم استخدام منهجية احتساب الدخل المتاح والإنفاق الإستهلاكي للأسرة For the first time the methodology for calculating household disposable income and consumption expenditure is used in Household Income and Consumption Expenditure Survey of 2023

Sheet 4-4
E1: الفهرس content
A2: متوسط الإنفاق الاستهلاكي النقدي النهائي الشهري للأسرة حسب المستوى التعليمي والجنسية لرئيس الأسرة Average Household Monthly Final Monetary Consumption Expenditure by Educational Level and Nationality of Household Head
A3: =VLOOKUP(A2,'content - الفهرس'!$B$4:$C$34,2,0) -> 최종학력별 및 가구주의 국적별 평균 가계 월 최종소비지출
A4: جدول (4-4) (4-4) Table
A5: المستوى التعليمي Educational Level | B5: 최종학력 | C5: الجنسية Nationality (국적)
C6: السعوديين Saudi | D6: غير السعوديين Non Saudi | E6: الإجمالي Total
A7: لا يوجد شهادة تعليمية No schooling | B7: =VLOOKUP(A7,'4-3 '!A:B,2,0) -> 미취학 | C7: 8422 | D7: 3778 | E7: 6369
A8: تعليم الطفولة المبكرة Early childhood education | B8: =VLOOKUP(A8,'4-3 '!A:B,2,0) -> 영유아교육 | C8: 10144 | D8: 5128 | E8: 7158
A9: تعليم ابتدائي Primary education | B9: =VLOOKUP(A9,'4-3 '!A:B,2,0) -> 초등학교 | C9: 11922 | D9: 4198 | E9: 6925
A10: تعليم متوسط Intermediate education | B10: =VLOOKUP(A10,'4-3 '!A:B,2,0) -> 중학교 | C10: 13065 | D10: 4097 | E10: 6348
A11: تعليم ثانوي Secondary education | B11: =VLOOKUP(A11,'4-3 '!A:B,2,0) -> 고등학교 | C11: 12017 | D11: 4705 | E11: 8388
A12: دبلوم مشارك Associate diploma | B12: =VLOOKUP(A12,'4-3 '!A:B,2,0) -> 준학사학위 | C12: 12168 | D12: 5430 | E12: 9399
A13: دبلوم متوسط Intermediate diploma | B13: =VLOOKUP(A13,'4-3 '!A:B,2,0) -> 중급학위 | C13: 14071 | D13: 5312 | E13: 10102
A14: بكالوريوس أو ما يعادلها Bachelor’s or equivalent level | B14: =VLOOKUP(A14,'4-3 '!A:B,2,0) -> 학사 또는 이에 상응하는 교육단계 | C14: 15003 | D14: 7546 | E14: 12548
A15: دبلوم عالي Higher diploma | B15: =VLOOKUP(A15,'4-3 '!A:B,2,0) -> 고급학위 | C15: 16421 | D15: 7758 | E15: 13971
A16: ماجستير أو ما يعادلها Master’s or equivalent level | B16: =VLOOKUP(A16,'4-3 '!A:B,2,0) -> 석사 또는 이에 상응하는 교육단계 | C16: 20741 | D16: 9776 | E16: 16892
A17: دكتوراه Doctoral or equivalent level | B17: =VLOOKUP(A17,'4-3 '!A:B,2,0) -> 박사 또는 이에 상응하는 교육단계 | C17: 21065 | D17: 10530 | E17: 16601
A18: الإجمالي Total | B18: =VLOOKUP(A18,'4-3 '!A:B,2,0) -> 전체 | C18: 13536 | D18: 5188 | E18: 9426
A19: المصدر: مسح الدخل والإنفاق الإستهلاكي للأسرة 2023 - الهيئة العامة للإحصاء The Source: Household Income and Consumption Expenditure Survey 2023 - General Authority for Statistics
A20: *لأول مره في مسح الدخل والإنفاق الإستهلاكي للأسرة لعام 2023 يتم استخدام منهجية احتساب الدخل المتاح والإنفاق الإستهلاكي للأسرة For the first time the methodology for calculating household disposable income and consumption expenditure is used in Household Income and Consumption Expenditure Survey of 2023

Sheet 5-4
E1: الفهرس content
A2: متوسط الإنفاق الاستهلاكي النقدي النهائي الشهري للأسرة حسب الحالة الزواجية والجنسية لرئيس الأسرة Average Household Monthly Final Monetary Consumption Expenditure by Marital Status and Nationality of Household Head
A3: =VLOOKUP(A2,'content - الفهرس'!$B$4:$C$34,2,0) -> 혼인상태별 및 가구주의 국적별 평균 가계 월 최종소비지출
A4: جدول (4-5) (5-4) Table
A5: الحالة الزواجية Marital Status | B5: 혼인상태 | C5: الجنسية Nationality (국적)
C6: السعوديين Saudi | D6: غير السعوديين Non Saudi | E6: الإجمالي Total
A7: لم يتزوج أبدا Never Married | B7: =VLOOKUP(A7,'5-3'!A:B,2,0) -> 미혼 | C7: 7980 | D7: 4201 | E7: 5551
A8: متزوج Married | B8: =VLOOKUP(A8,'5-3'!A:B,2,0) -> 유배우 | C8: 14750 | D8: 5362 | E8: 9996
A9: مطلق Divorced | B9: =VLOOKUP(A9,'5-3'!A:B,2,0) -> 이혼 | C9: 10753 | D9: 5638 | E9: 9937
A10: أرمل Widowed | B10: =VLOOKUP(A10,'5-3'!A:B,2,0) -> 사별 | C10: 9203 | D10: 5801 | E10: 9020
A11: الإجمالي Total | B11: =VLOOKUP(A11,'5-3'!A:B,2,0) -> 전체 | C11: 13536 | D11: 5188 | E11: 9426
A12: المصدر: مسح الدخل والإنفاق الإستهلاكي للأسرة 2023 - الهيئة العامة للإحصاء The Source: Household Income and Consumption Expenditure Survey 2023 - General Authority for Statistics
A13: *لأول مره في مسح الدخل والإنفاق الإستهلاكي للأسرة لعام 2023 يتم استخدام منهجية احتساب الدخل المتاح والإنفاق الإستهلاكي للأسرة For the first time the methodology for calculating household disposable income and consumption expenditure is used in Household Income and Consumption Expenditure Survey of 2023

Sheet 6-4
E1: الفهرس content
A2: متوسط الإنفاق الاستهلاكي النقدي النهائي الشهري للأسرة حسب نوع المسكن والجنسية لرئيس الأسرة Average Household Monthly Final Monetary Consumption Expenditure by Type of Dwelling and Nationality of Household Head
A3: =VLOOKUP(A2,'content - الفهرس'!$B$4:$C$34,2,0) -> 주거형태별 및 가구주의 국적별 평균 가계 월 최종소비지출
A4: جدول (4-6) (6-4) Table
A5: نوع المسكن Type of Dwelling | B5: 주거형태 | C5: الجنسية Nationality (국적)
C6: السعوديين Saudi | D6: غير السعوديين Non Saudi | E6: الإجمالي Total
A7: فيلا Villa | B7: =VLOOKUP(A7,'6-3'!A:B,2,0) -> 빌라 | C7: 18954 | D7: 14962 | E7: 18810
A8: دور في فيلا Storey in Villa | B8: =VLOOKUP(A8,'6-3'!A:B,2,0) -> 다층빌라 | C8: 13386 | D8: 10725 | E8: 13088
A9: شقة Apartment | B9: =VLOOKUP(A9,'6-3'!A:B,2,0) -> 아파트 | C9: 11123 | D9: 5205 | E9: 7443
A10: منزل شعبي Traditional house | B10: =VLOOKUP(A10,'6-3'!A:B,2,0) -> 전통주택 | C10: 10150 | D10: 4817 | E10: 7779
A11: دور في منزل شعبي Storey in traditional house | B11: =VLOOKUP(A11,'6-3'!A:B,2,0) -> 다층전통주택 | C11: 12839 | D11: 5723 | E11: 7734
A12: اخرى Other | B12: =VLOOKUP(A12,'6-3'!A:B,2,0) -> 기타 | C12: 10844 | D12: 2488 | E12: 3070
A13: الإجمالي Total | B13: =VLOOKUP(A13,'6-3'!A:B,2,0) -> 전체 | C13: 13536 | D13: 5188 | E13: 9426
A14: المصدر: مسح الدخل والإنفاق الإستهلاكي للأسرة 2023 - الهيئة العامة للإحصاء The Source: Household Income and Consumption Expenditure Survey 2023 - General Authority for Statistics
A15: *لأول مره في مسح الدخل والإنفاق الإستهلاكي للأسرة لعام 2023 يتم استخدام منهجية احتساب الدخل المتاح والإنفاق الإستهلاكي للأسرة For the first time the methodology for calculating household disposable income and consumption expenditure is used in Household Income and Consumption Expenditure Survey of 2023

Sheet 7-4
E1: الفهرس content
A2: متوسط الإنفاق الاستهلاكي النقدي النهائي الشهري للأسرة حسب نوع الحيازة والجنسية لرئيس الأسرة Average Household Monthly Final Monetary Consumption Expenditure by Type of ownership and Nationality of Household Head
A3: =VLOOKUP(A2,'content - الفهرس'!$B$4:$C$34,2,0) -> 주거소유형태별 및 가구주의 국적별 평균 가계 월 최종소비지출
A4: جدول (4-7) (7-4) Table
A5: نوع الحيازة Type of ownership | B5: 주거소유형태 | C5: الجنسية Nationality (국적)
C6: السعوديين Saudi | D6: غير السعوديين Non Saudi | E6: الإجمالي Total
A7: مملوك Owned | B7: =VLOOKUP(A7,'7-3'!A:B,2,0) -> 자가 | C7: 14970 | D7: 6602 | E7: 14836
A8: مستأجر Rented | B8: =VLOOKUP(A8,'7-3'!A:B,2,0) -> 임대 | C8: 11615 | D8: 6051 | E8: 7959
A9: مقدم من العمل Provided by an employer | B9: =VLOOKUP(A9,'7-3'!A:B,2,0) -> 사택 | C9: 14721 | D9: 3235 | E9: 3770
A10: مقدم من الغير Provided by others | B10: =VLOOKUP(A10,'7-3'!A:B,2,0) -> 기타 제공 | C10: 10577 | D10: 4292 | E10: 9951
A11: أخرى Other | B11: =VLOOKUP(A11,'7-3'!A:B,2,0) -> 기타 | C11: 15014 | D11: 4927 | E11: 12719
A12: الإجمالي Total | B12: =VLOOKUP(A12,'7-3'!A:B,2,0) -> 전체 | C12: 13536 | D12: 5188 | E12: 9426
A13: المصدر: مسح الدخل والإنفاق الإستهلاكي للأسرة 2023 - الهيئة العامة للإحصاء The Source: Household Income and Consumption Expenditure Survey 2023 - General Authority for Statistics
A14: *لأول مره في مسح الدخل والإنفاق الإستهلاكي للأسرة لعام 2023 يتم استخدام منهجية احتساب الدخل المتاح والإنفاق الإستهلاكي للأسرة For the first time the methodology for calculating household disposable income and consumption expenditure is used in Household Income and Consumption Expenditure Survey of 2023

Sheet 8-4
D1: الفهرس content
A2: متوسط الإنفاق الاستهلاكي النقدي النهائي الشهري للأسرة حسب حجم الأسرة والجنسية لرئيس الأسرة Average Household Monthly Final Monetary Consumption Expenditure by Household Size and Nationality of Household Head
A3: =VLOOKUP(A2,'content - الفهرس'!$B$4:$C$34,2,0) -> 가구원수별 및 가구주의 국적별 평균 가계 월 최종소비지출
A4: جدول (4-8) (8-4) Table
A5: حجم الأسرة Household Size 가구원수 | B5: الجنسية Nationality (국적)
B6: السعوديين Saudi | C6: غير السعوديين Non Saudi | D6: الإجمالي Total
A7: 1-2 | B7: 8261 | C7: 3712 | D7: 5092
A8: 3-4 | B8: 12704 | C8: 5826 | D8: 9090
A9: 5+ | B9: 16446 | C9: 9146 | D9: 14843
A10: الإجمالي Total | B10: 13536 | C10: 5188 | D10: 9426
A11: المصدر: مسح الدخل والإنفاق الإستهلاكي للأسرة 2023 - الهيئة العامة للإحصاء The Source: Household Income and Consumption Expenditure Survey 2023 - General Authority for Statistics
A12: *لأول مره في مسح الدخل والإنفاق الإستهلاكي للأسرة لعام 2023 يتم استخدام منهجية احتساب الدخل المتاح والإنفاق الإستهلاكي للأسرة For the first time the methodology for calculating household disposable income and consumption expenditure is used in Household Income and Consumption Expenditure Survey of 2023

Sheet 9-4
D1: الفهرس content
A2: متوسط الإنفاق الاستهلاكي النقدي النهائي الشهري للفرد حسب المنطقة الإدارية والجنسية Average Per-Capita Monthly Final Monetary Consumption Expenditure by Administrative Region and Nationality
A3: =VLOOKUP(A2,'content - الفهرس'!$B$4:$C$34,2,0) -> 지역별 및 국적별 평균 1인당 월 최종소비지출
A4: جدول (4-9) (9-4) Table
A5: المنطقة الإدارية Administrative Region 행정지역 | B5: الجنسية Nationality (국적)
B6: السعوديين Saudi | C6: غير السعوديين Non Saudi | D6: الإجمالي Total
A7: الرياض Riyadh | B7: 3968 | C7: 1996 | D7: 3093
A8: مكة المكرمة Makkah | B8: 2560 | C8: 1814 | D8: 2227
A9: المدينة المنورة Madinah | B9: 2507 | C9: 1579 | D9: 2188
A10: القصيم Qassim | B10: 2365 | C10: 1288 | D10: 2070
A11: المنطقة الشرقية Eastern Province | B11: 3507 | C11: 1820 | D11: 2847
A12: عسير Asir | B12: 2333 | C12: 1598 | D12: 2160
A13: تبوك Tabuk | B13: 2365 | C13: 1712 | D13: 2195
A14: حائل Hail | B14: 1956 | C14: 1611 | D14: 1878
A15: الحدود الشمالية Northern Border | B15: 2194 | C15: 1709 | D15: 2086
A16: جازان Jazan | B16: 3156 | C16: 1984 | D16: 2869
A17: نجران Najran | B17: 1762 | C17: 1210 | D17: 1611
A18: الباحة AL - Baha | B18: 3106 | C18: 2004 | D18: 2886
... A20: الإجمالي Total | B20: 2984 | C20: 1825 | D20: 2546
A21: المصدر: مسح الدخل والإنفاق الإستهلاكي للأسرة 2023 - الهيئة العامة للإحصاء The Source: Household Income and Consumption Expenditure Survey 2023 - General Authority for Statistics
A22: *لأول مره في مسح الدخل والإنفاق الإستهلاكي للأسرة لعام 2023 يتم استخدام منهجية احتساب الدخل المتاح والإنفاق الإستهلاكي للأسرة For the first time the methodology for calculating household disposable income and consumption expenditure is used in Household Income and Consumption Expenditure Survey of 2023

Sheet 10-4
D1: الفهرس content
A2: وسيط الإنفاق الاستهلاكي النقدي النهائي الشهري للفرد حسب المنطقة الإدارية والجنسية Median Per-Capita Monthly Final Monetary Consumption Expenditure by Administrative Region and Nationality
A3: =VLOOKUP(A2,'content - الفهرس'!$B$4:$C$34,2,0) -> 지역별 및 국적별 중위 1인당 월 최종소비지출
A4: جدول (4-10) (10-4) Table
A5: المنطقة الإدارية Administrative Region 행정지역 | B5: الجنسية Nationality (국적)
B6: السعوديين Saudi | C6: غير السعوديين Non Saudi | D6: الإجمالي Total
A7: الرياض Riyadh | B7: 3147 | C7: 1599 | D7: 2349
A8: مكة المكرمة Makkah | B8: 1975 | C8: 1543 | D8: 1756
A9: المدينة المنورة Madinah | B9: 2042 | C9: 1338 | D9: 1759
A10: القصيم Qassim | B10: 1870 | C10: 1062 | D10: 1579
A11: المنطقة الشرقية Eastern Province | B11: 2773 | C11: 1461 | D11: 2136
A12: عسير Asir | B12: 1932 | C12: 1437 | D12: 1779
A13: تبوك Tabuk | B13: 2018 | C13: 1521 | D13: 1877
A14: حائل Hail | B14: 1494 | C14: 1352 | D14: 1485
A15: الحدود الشمالية Northern Border | B15: 1914 | C15: 1454 | D15: 1802
A16: جازان Jazan | B16: 2607 | C16: 1576 | D16: 2375
A17: نجران Najran | B17: 1522 | C17: 1078 | D17: 1355
A18: الباحة AL - Baha | B18: 2499 | C18: 1518 | D18: 2266
... A20: الإجمالي Total | B20: 2353 | C20: 1515 | D20: 1952
A21: المصدر: مسح الدخل والإنفاق الإستهلاكي للأسرة 2023 - الهيئة العامة للإحصاء The Source: Household Income and Consumption Expenditure Survey 2023 - General Authority for Statistics
A22: *لأول مره في مسح الدخل والإنفاق الإستهلاكي للأسرة لعام 2023 يتم استخدام منهجية احتساب الدخل المتاح والإنفاق الإستهلاكي للأسرة For the first time the methodology for calculating household disposable income and consumption expenditure is used in Household Income and Consumption Expenditure Survey of 2023

Sheet 11-4
E1: الفهرس content
A2: متوسط الإنفاق الاستهلاكي النقدي النهائي الشهري للأسرة حسب مجموعات الإنفاق الرئيسة والجنسية لرئيس الأسرة Average Household Monthly Final Monetary Consumption Expenditure by COICOP Divisions and Nationality of Household Head
A3: =VLOOKUP(A2,'content - الفهرس'!$B$4:$C$34,2,0) -> COICOP 중분류별 및 가구주의 국적별 가계 월 최종소비지출 백분율
A4: جدول (4-11) (11-4) Table
A5: مجموعات الإنفاق COICOP Divisions | B5: COICOP 분류 | C5: الجنسية Nationality (국적)
C6: السعوديين Saudi | D6: غير السعوديين Non Saudi | E6: الإجمالي Total
A7: الأغذية والمشروبات Food and beverages | B7: 식료품 및 음료 | C7: 3741.5 | D7: 1474.2 | E7: 2625.2
A8: التبغ Tobacco | B8: 담배 | C8: 57.4 | D8: 84.7 | E8: 70.9
A9: الملابس والأحذية Clothing and footwear | B9: 의류 및 신발 | C9: 1434.1 | D9: 350.9 | E9: 900.9
A10: السكن والمياه والكهرباء والغاز وأنواع الوقود الأخرى Housing, water, electricity, gas and other fuels | B10: 주택, 수도, 전기, 가스 및 기타 연료 | C10: 1504.6 | D10: 1154 | E10: 1332
A11: المفروشات والمعدات المنزلية والصيانة المنزلية الروتينية Furnishings, household equipment and routine household maintenance | B11: 가구, 가사 비품 및 기타 생활용품 | C11: 1125.6 | D11: 172.8 | E11: 656.5
A12: الصحة Health | B12: 보건 | C12: 265 | D12: 85.5 | E12: 176.6
A13: النقل Transport | B13: 운송 | C13: 1598 | D13: 361.4 | E13: 989.2
A14: المعلومات والاتصالات Information and communication | B14: 정보통신 | C14: 652.9 | D14: 310.6 | E14: 484.4
A15: الترفيه والرياضة والثقافة Recreation, sport and culture | B15: 여가, 스포츠 및 문화 | C15: 594.7 | D15: 73.9 | E15: 338.3
A16: الخدمات التعليمية Education services | B16: 교육 서비스 | C16: 178.1 | D16: 61.9 | E16: 120.9
A17: خدمات المطاعم والإقامة Restaurants and accommodation services | B17: 음식점 및 숙박 서비스 | C17: 1528.7 | D17: 657 | E17: 1099.5
A18: التأمين والخدمات المالية Insurance and financial services | B18: 보험 및 금융 서비스 | C18: 123.3 | D18: 78 | E18: 101
A19: العناية الشخصية والحماية الاجتماعية والسلع والخدمات المتنوعة Personal care, social protection and miscellaneous goods and services | B19: 개인 미용, 사회보장, 기타 상품 및 서비스 | C19: 731.9 | D19: 322.6 | E19: 530.4
A20: المصدر: مسح الدخل والإنفاق الإستهلاكي للأسرة 2023 - الهيئة العامة للإحصاء The Source: Household Income and Consumption Expenditure Survey 2023 - General Authority for Statistics
A21: *لأول مره في مسح الدخل والإنفاق الإستهلاكي للأسرة لعام 2023 يتم استخدام منهجية احتساب الدخل المتاح والإنفاق الإستهلاكي للأسرة For the first time the methodology for calculating household disposable income and consumption expenditure is used in Household Income and Consumption Expenditure Survey of 2023

Sheet 12-4
E1: الفهرس content
A2: نسبة الإنفاق الاستهلاكي النقدي النهائي الشهري للأسرة حسب مجموعات الإنفاق الرئيسة والجنسية لرئيس الأسرة Percentage of Household Monthly Final Monetary Consumption Expenditure by COICOP Divisions and Nationality of Household Head
A3: =VLOOKUP(A2,'content - الفهرس'!$B$4:$C$34,2,0) -> COICOP 중분류별 및 가구주의 국적별 가계 월 최종소비지출 백분율
A4: جدول (4-12) (12-4) Table
A5: مجموعات الإنفاق COICOP Divisions | B5: COICOP 분류 | C5: الجنسية Nationality (국적)
C6: السعوديين Saudi | D6: غير السعوديين Non Saudi | E6: الإجمالي Total
A7: الأغذية والمشروبات Food and beverages | B7: =VLOOKUP(A7,'11-4'!A:B,2,0) -> 식료품 및 음료 | C7: 0.2764 | D7: 0.2842 | E7: 0.2785
A8: التبغ Tobacco | B8: =VLOOKUP(A8,'11-4'!A:B,2,0) -> 담배 | C8: 0.0042 | D8: 0.0163 | E8: 0.0075
A9: الملابس والأحذية Clothing and footwear | B9: =VLOOKUP(A9,'11-4'!A:B,2,0) -> 의류 및 신발 | C9: 0.1059 | D9: 0.0676 | E9: 0.0956
A10: السكن والمياه والكهرباء والغاز وأنواع الوقود الأخرى Housing, water, electricity, gas and other fuels | B10: =VLOOKUP(A10,'11-4'!A:B,2,0) -> 주택, 수도, 전기, 가스 및 기타 연료 | C10: 0.1112 | D10: 0.2225 | E10: 0.1413
A11: المفروشات والمعدات المنزلية والصيانة المنزلية الروتينية Furnishings, household equipment and routine household maintenance | B11: =VLOOKUP(A11,'11-4'!A:B,2,0) -> 가구, 가사 비품 및 기타 생활용품 | C11: 0.0832 | D11: 0.0333 | E11: 0.0696
A12: الصحة Health | B12: =VLOOKUP(A12,'11-4'!A:B,2,0) -> 보건 | C12: 0.0196 | D12: 0.0165 | E12: 0.0187
A13: النقل Transport | B13: =VLOOKUP(A13,'11-4'!A:B,2,0) -> 운송 | C13: 0.1181 | D13: 0.0697 | E13: 0.1049
A14: المعلومات والاتصالات Information and communication | B14: =VLOOKUP(A14,'11-4'!A:B,2,0) -> 정보통신 | C14: 0.0482 | D14: 0.0599 | E14: 0.0514
A15: الترفيه والرياضة والثقافة Recreation, sport and culture | B15: =VLOOKUP(A15,'11-4'!A:B,2,0) -> 여가, 스포츠 및 문화 | C15: 0.0439 | D15: 0.0142 | E15: 0.0359
A16: الخدمات التعليمية Education services | B16: =VLOOKUP(A16,'11-4'!A:B,2,0) -> 교육 서비스 | C16: 0.0132 | D16: 0.0119 | E16: 0.0128
A17: خدمات المطاعم والإقامة Restaurants and accommodation services | B17: =VLOOKUP(A17,'11-4'!A:B,2,0) -> 음식점 및 숙박 서비스 | C17: 0.1129 | D17: 0.1266 | E17: 0.1166
A18: التأمين والخدمات المالية Insurance and financial services | B18: =VLOOKUP(A18,'11-4'!A:B,2,0) -> 보험 및 금융 서비스 | C18: 0.0091 | D18: 0.015 | E18: 0.0107
A19: العناية الشخصية والحماية الاجتماعية والسلع والخدمات المتنوعة Personal care, social protection and miscellaneous goods and services | B19: =VLOOKUP(A19,'11-4'!A:B,2,0) -> 개인 미용, 사회보장, 기타 상품 및 서비스 | C19: 0.0541 | D19: 0.0622 | E19: 0.0563
A20: المصدر: مسح الدخل والإنفاق الإستهلاكي للأسرة 2023 - الهيئة العامة للإحصاء The Source: Household Income and Consumption Expenditure Survey 2023 - General Authority for Statistics
A21: *لأول مره في مسح الدخل والإنفاق الإستهلاكي للأسرة لعام 2023 يتم استخدام منهجية احتساب الدخل المتاح والإنفاق الإستهلاكي للأسرة For the first time the methodology for calculating household disposable income and consumption expenditure is used in Household Income and Consumption Expenditure Survey of 2023

Sheet 13-4
E1: الفهرس content
A2: متوسط الإنفاق الاستهلاكي النقدي النهائي الشهري للفرد حسب مجموعات الإنفاق الرئيسة والجنسية Average Household Monthly Final Monetary Consumption Expenditure by COICOP Divisions and Nationality
A3: =VLOOKUP(A2,'content - الفهرس'!$B$4:$C$34,2,0) -> COICOP 중분류별 및 국적별 평균 가계 월 최종소비지출
A4: جدول (4-13) (13-4) Table
A5: مجموعات الإنفاق COICOP Divisions | B5: COICOP 분류 | C5: الجنسية Nationality (국적)
C6: السعوديين Saudi | D6: غير السعوديين Non Saudi | E6: الإجمالي Total
A7: الأغذية والمشروبات Food and beverages | B7: =VLOOKUP(A7,'12-4'!A:E,2,0) -> 식료품 및 음료 | C7: 824.8 | D7: 518.5 | E7: 708.984
A8: التبغ Tobacco | B8: =VLOOKUP(A8,'12-4'!A:E,2,0) -> 담배 | C8: 12.7 | D8: 29.8 | E8: 19.1417
A9: الملابس والأحذية Clothing and footwear | B9: =VLOOKUP(A9,'12-4'!A:E,2,0) -> 의류 및 신발 | C9: 316.1 | D9: 123.4 | E9: 243.292
A10: السكن والمياه والكهرباء والغاز وأنواع الوقود الأخرى Housing, water, electricity, gas and other fuels | B10: =VLOOKUP(A10,'12-4'!A:E,2,0) -> 주택, 수도, 전기, 가스 및 기타 연료 | C10: 331.7 | D10: 405.9 | E10: 359.721
A11: المفروشات والمعدات المنزلية والصيانة المنزلية الروتينية Furnishings, household equipment and routine household maintenance | B11: =VLOOKUP(A11,'12-4'!A:E,2,0) -> 가구, 가사 비품 및 기타 생활용품 | C11: 248.1 | D11: 60.8 | E11: 177.294
A12: الصحة Health | B12: =VLOOKUP(A12,'12-4'!A:E,2,0) -> 보건 | C12: 58.4 | D12: 30.1 | E12: 47.704
A13: النقل Transport | B13: =VLOOKUP(A13,'12-4'!A:E,2,0) -> 운송 | C13: 352.2 | D13: 127.1 | E13: 267.14
A14: المعلومات والاتصالات Information and communication | B14: =VLOOKUP(A14,'12-4'!A:E,2,0) -> 정보통신 | C14: 143.9 | D14: 109.2 | E14: 130.811
A15: الترفيه والرياضة والثقافة Recreation, sport and culture | B15: =VLOOKUP(A15,'12-4'!A:E,2,0) -> 여가, 스포츠 및 문화 | C15: 131.1 | D15: 26 | E15: 91.3609
A16: الخدمات التعليمية Education services | B16: =VLOOKUP(A16,'12-4'!A:E,2,0) -> 교육 서비스 | C16: 39.3 | D16: 21.8 | E16: 32.6482
A17: خدمات المطاعم والإقامة Restaurants and accommodation services | B17: =VLOOKUP(A17,'12-4'!A:E,2,0) -> 음식점 및 숙박 서비스 | C17: 337 | D17: 231.1 | E17: 296.942
A18: التأمين والخدمات المالية Insurance and financial services | B18: =VLOOKUP(A18,'12-4'!A:E,2,0) -> 보험 및 금융 서비스 | C18: 27.2 | D18: 27.4 | E18: 27.2793
A19: العناية الشخصية والحماية الاجتماعية والسلع والخدمات المتنوعة Personal care, social protection and miscellaneous goods and services | B19: =VLOOKUP(A19,'12-4'!A:E,2,0) -> 개인 미용, 사회보장, 기타 상품 및 서비스 | C19: 161.3 | D19: 113.5 | E19: 143.244
A20: المصدر: مسح الدخل والإنفاق الإستهلاكي للأسرة 2023 - الهيئة العامة للإحصاء The Source: Household Income and Consumption Expenditure Survey 2023 - General Authority for Statistics
A21: *لأول مره في مسح الدخل والإنفاق الإستهلاكي للأسرة لعام 2023 يتم استخدام منهجية احتساب الدخل المتاح والإنفاق الإستهلاكي للأسرة For the first time the methodology for calculating household disposable income and consumption expenditure is used in Household Income and Consumption Expenditure Survey of 2023

Sheet 14-4
E1: الفهرس content
A2: نسبة الإنفاق الاستهلاكي النقدي النهائي الشهري للفرد حسب مجموعات الإنفاق الرئيسة والجنسية Percentage of Household Monthly Final Monetary Consumption Expenditure by COICOP Divisions and Nationality
A3: =VLOOKUP(A2,'content - الفهرس'!$B$4:$C$34,2,0) -> COICOP 중분류별 및 국적별 가계 월 최종소비지출 백분율
A4: جدول (4-14) (14-4) Table
A5: مجموعات الإنفاق COICOP Divisions | B5: COICOP 분류 | C5: الجنسية Nationality (국적)
C6: السعوديين Saudi | D6: غير السعوديين Non Saudi | E6: الإجمالي Total
A7: الأغذية والمشروبات Food and beverages | B7: =VLOOKUP(A7,'13-4'!A:E,2,0) -> 식료품 및 음료 | C7: 0.2764 | D7: 0.2842 | E7: 0.2785
A8: التبغ Tobacco | B8: =VLOOKUP(A8,'13-4'!A:E,2,0) -> 담배 | C8: 0.0043 | D8: 0.0163 | E8: 0.0075
A9: الملابس والأحذية Clothing and footwear | B9: =VLOOKUP(A9,'13-4'!A:E,2,0) -> 의류 및 신발 | C9: 0.1059 | D9: 0.0676 | E9: 0.0956
A10: السكن والمياه والكهرباء والغاز وأنواع الوقود الأخرى Housing, water, electricity, gas and other fuels | B10: =VLOOKUP(A10,'13-4'!A:E,2,0) -> 주택, 수도, 전기, 가스 및 기타 연료 | C10: 0.1112 | D10: 0.2225 | E10: 0.1413
A11: المفروشات والمعدات المنزلية والصيانة المنزلية الروتينية Furnishings, household equipment and routine household maintenance | B11: =VLOOKUP(A11,'13-4'!A:E,2,0) -> 가구, 가사 비품 및 기타 생활용품 | C11: 0.0831 | D11: 0.0333 | E11: 0.0696
A12: الصحة Health | B12: =VLOOKUP(A12,'13-4'!A:E,2,0) -> 보건 | C12: 0.0196 | D12: 0.0165 | E12: 0.0187
A13: النقل Transport | B13: =VLOOKUP(A13,'13-4'!A:E,2,0) -> 운송 | C13: 0.118 | D13: 0.0697 | E13: 0.1049
A14: المعلومات والاتصالات Information and communication | B14: =VLOOKUP(A14,'13-4'!A:E,2,0) -> 정보통신 | C14: 0.0482 | D14: 0.0598 | E14: 0.0514
A15: الترفيه والرياضة والثقافة Recreation, sport and culture | B15: =VLOOKUP(A15,'13-4'!A:E,2,0) -> 여가, 스포츠 및 문화 | C15: 0.0439 | D15: 0.0142 | E15: 0.0359
A16: الخدمات التعليمية Education services | B16: =VLOOKUP(A16,'13-4'!A:E,2,0) -> 교육 서비스 | C16: 0.0132 | D16: 0.0119 | E16: 0.0128
A17: خدمات المطاعم والإقامة Restaurants and accommodation services | B17: =VLOOKUP(A17,'13-4'!A:E,2,0) -> 음식점 및 숙박 서비스 | C17: 0.1129 | D17: 0.1267 | E17: 0.1166
A18: التأمين والخدمات المالية Insurance and financial services | B18: =VLOOKUP(A18,'13-4'!A:E,2,0) -> 보험 및 금융 서비스 | C18: 0.0091 | D18: 0.015 | E18: 0.0107
A19: العناية الشخصية والحماية الاجتماعية والسلع والخدمات المتنوعة Personal care, social protection and miscellaneous goods and services | B19: =VLOOKUP(A19,'13-4'!A:E,2,0) -> 개인 미용, 사회보장, 기타 상품 및 서비스 | C19: 0.0541 | D19: 0.0622 | E19: 0.0563
A20: المصدر: مسح الدخل والإنفاق الإستهلاكي للأسرة 2023 - الهيئة العامة للإحصاء The Source: Household Income and Consumption Expenditure Survey 2023 - General Authority for Statistics
A21: *لأول مره في مسح الدخل والإنفاق الإستهلاكي للأسرة لعام 2023 يتم استخدام منهجية احتساب الدخل المتاح والإنفاق الإستهلاكي للأسرة For the first time the methodology for calculating household disposable income and consumption expenditure is used in Household Income and Consumption Expenditure Survey of 2023

Sheet 15-4
O1: الفهرس content
A2: متوسط الإنفاق الاستهلاكي النقدي النهائي الشهري للأسرة حسب مجموعات الإنفاق الرئيسة والمنطقة الإدارية Average Household Monthly Final Monetary Consumption Expenditure by COICOP Divisions and Administrative Region
A3: =VLOOKUP(A2,'content - الفهرس'!$B$4:$C$34,2,0) -> COICOP 중분류별 및 지역별 평균 가계 월 최종소비지출
A4: جدول (4-15) (15-4) Table
A5: مجموعات الإنفاق COICOP Divisions | B5: COICOP 분류 | C5: المنطقة الإدارية Administrative Region
C6: الرياض Riyadh | D6: مكة المكرمة Makkah | E6: المدينة المنورة Madinah | F6: القصيم Qassim | G6: المنطقة الشرقية Eastern Province | H6: عسير Asir | I6: تبوك Tabuk | J6: حائل Hail | K6: الحدود الشمالية Northern Border | L6: جازان Jazan | M6: نجران Najran | N6: الباحة AL - Baha | O6: الجوف AL - Jouf
A7: الأغذية والمشروبات Food and beverages | B7: =VLOOKUP(A7,'14-4'!A:E,2,0) -> 식료품 및 음료 | C7: 2503.2929 | D7: 2440.3244 | E7: 2926.341 | F7: 2727.5155 | G7: 2351.2659 | H7: 2763.2976 | I7: 3073.4824 | J7: 2751.8692 | K7: 3476.4305 | L7: 3939.0306 | M7: 3055.9363 | N7: 3995.0489 | O7: 2993.5349
A8: التبغ Tobacco | B8: =VLOOKUP(A8,'14-4'!A:E,2,0) -> 담배 | C8: 71.506222 | D8: 70.822128 | E8: 77.314026 | F8: 32.491541 | G8: 80.348517 | H8: 35.88222 | I8: 108.38417 | J8: 72.424686 | K8: 142.75689 | L8: 62.402299 | M8: 27.961538 | N8: 74.020875 | O8: 118.62151
A9: الملابس والأحذية Clothing and footwear | B9: =VLOOKUP(A9,'14-4'!A:E,2,0) -> 의류 및 신발 | C9: 1028.6688 | D9: 741.13098 | E9: 806.73236 | F9: 709.0603 | G9: 1056.5124 | H9: 731.94023 | I9: 943.78948 | J9: 668.40675 | K9: 974.01482 | L9: 1190.5505 | M9: 649.50783 | N9: 997.63454 | O9: 839.40846
A10: السكن والمياه والكهرباء والغاز وأنواع الوقود الأخرى Housing, water, electricity, gas and other fuels | B10: =VLOOKUP(A10,'14-4'!A:E,2,0) -> 주택, 수도, 전기, 가스 및 기타 연료 | C10: 1359.9975 | D10: 1519.9552 | E10: 1251.7329 | F10: 1029.0309 | G10: 1356.8009 | H10: 992.51058 | I10: 1113.0103 | J10: 981.0127 | K10: 1298.8159 | L10: 1371.118 | M10: 914.55235 | N10: 918.24325 | O10: 1182.2422
A11: المفروشات والمعدات المنزلية والصيانة المنزلية الروتينية Furnishings, household equipment and routine household maintenance | B11: =VLOOKUP(A11,'14-4'!A:E,2,0) -> 가구, 가사 비품 및 기타 생활용품 | C11: 947.72278 | D11: 420.72183 | E11: 437.54907 | F11: 484.33814 | G11: 771.61431 | H11: 527.79114 | I11: 469.88463 | J11: 340.54577 | K11: 621.93958 | L11: 952.6089 | M11: 264.11403 | N11: 603.75275 | O11: 455.71652
A12: الصحة Health | B12: =VLOOKUP(A12,'14-4'!A:E,2,0) -> 보건 | C12: 190.74527 | D12: 136.49318 | E12: 181.19353 | F12: 193.75848 | G12: 180.53453 | H12: 248.83355 | I12: 158.61231 | J12: 109.7419 | K12: 154.01159 | L12: 299.38913 | M12: 88.355174 | N12: 224.21275 | O12: 127.14712
A13: النقل Transport | B13: =VLOOKUP(A13,'14-4'!A:E,2,0) -> 운송 | C13: 1234.671 | D13: 690.98104 | E13: 735.01122 | F13: 1234.956 | G13: 1063.1919 | H13: 1100.906 | I13: 808.11013 | J13: 864.0743 | K13: 1012.5125 | L13: 1156.2472 | M13: 629.44798 | N13: 1498.212 | O13: 937.17615
A14: المعلومات والاتصالات Information and communication | B14: =VLOOKUP(A14,'14-4'!A:E,2,0) -> 정보통신 | C14: 563.21973 | D14: 404.68016 | E14: 419.5101 | F14: 502.13711 | G14: 519.92354 | H14: 502.12029 | I14: 428.28704 | J14: 401.16361 | K14: 555.65343 | L14: 534.6816 | M14: 317.48157 | N14: 482.03249 | O14: 406.18577
A15: الترفيه والرياضة والثقافة Recreation, sport and culture | B15: =VLOOKUP(A15,'14-4'!A:E,2,0) -> 여가, 스포츠 및 문화 | C15: 385.81913 | D15: 221.25053 | E15: 196.90831 | F15: 199.97997 | G15: 621.49208 | H15: 190.14573 | I15: 169.57457 | J15: 109.12499 | K15: 238.79086 | L15: 530.5589 | M15: 117.38883 | N15: 514.66928 | O15: 209.3799
A16: الخدمات التعليمية Education services | B16: =VLOOKUP(A16,'14-4'!A:E,2,0) -> 교육 서비스 | C16: 289.69085 | D16: 36.32754 | E16: 59.201283 | F16: 52.936857 | G16: 113.71347 | H16: 38.585345 | I16: 40.962054 | J16: 15.31407 | K16: 63.909799 | L16: 30.124366 | M16: 9.543882 | N16: 9.752105 | O16: 31.106435
A17: خدمات المطاعم والإقامة Restaurants and accommodation services | B17: =VLOOKUP(A17,'14-4'!A:E,2,0) -> 음식점 및 숙박 서비스 | C17: 1255.9596 | D17: 887.71781 | E17: 1216.189 | F17: 664.99188 | G17: 1248.0037 | H17: 782.53003 | I17: 1217.5923 | J17: 645.89116 | K17: 951.85769 | L17: 1986.4412 | M17: 590.74022 | N17: 1129.7474 | O17: 943.06267
A18: التأمين والخدمات المالية Insurance and financial services | B18: =VLOOKUP(A18,'14-4'!A:E,2,0) -> 보험 및 금융 서비스 | C18: 129.83645 | D18: 79.568325 | E18: 61.379032 | F18: 102.5177 | G18: 110.00975 | H18: 89.612707 | I18: 114.31985 | J18: 73.402714 | K18: 94.381369 | L18: 81.095847 | M18: 102.81543 | N18: 80.65028 | O18: 130.9247
A19: العناية الشخصية والحماية الاجتماعية والسلع والخدمات المتنوعة Personal care, social protection and miscellaneous goods and services | B19: =VLOOKUP(A19,'14-4'!A:E,2,0) -> 개인 미용, 사회보장, 기타 상품 및 서비스 | C19: 703.19104 | D19: 390.67553 | E19: 406.04557 | F19: 452.84197 | G19: 618.51985 | H19: 424.52089 | I19: 444.38773 | J19: 240.20159 | K19: 537.79156 | L19: 704.53754 | M19: 256.98454 | N19: 462.77848 | O19: 381.09583
A20: المصدر: مسح الدخل والإنفاق الإستهلاكي للأسرة 2023 - الهيئة العامة للإحصاء The Source: Household Income and Consumption Expenditure Survey 2023 - General Authority for Statistics
A21: *لأول مره في مسح الدخل والإنفاق الإستهلاكي للأسرة لعام 2023 يتم استخدام منهجية احتساب الدخل المتاح والإنفاق الإستهلاكي للأسرة For the first time the methodology for calculating household disposable income and consumption expenditure is used in Household Income and Consumption Expenditure Survey of 2023

Sheet 16-4
O1: الفهرس content
A2: نسبة الإنفاق الاستهلاكي النقدي النهائي الشهري للأسرة حسب مجموعات الإنفاق الرئيسة والمنطقة الإدارية Percentage of Household Monthly Final Monetary Consumption Expenditure by COICOP Divisions and Administrative Region
A3: =VLOOKUP(A2,'content - الفهرس'!$B$4:$C$34,2,0) -> COICOP 중분류별 및 지역별 가계 월 최종소비지출 백분율
A4: جدول (4-16) (16-4) Table
A5: مجموعات الإنفاق COICOP Divisions COICOP 중분류 | B5: COICOP 분류 | C5: المنطقة الإدارية Administrative Region
C6: الرياض Riyadh | D6: مكة المكرمة Makkah | E6: المدينة المنورة Madinah | F6: القصيم Qassim | G6: المنطقة الشرقية Eastern Province | H6: عسير Asir | I6: تبوك Tabuk | J6: حائل Hail | K6: الحدود الشمالية Northern Border | L6: جازان Jazan | M6: نجران Najran | N6: الباحة AL - Baha | O6: الجوف AL - Jouf
A7: الأغذية والمشروبات Food and beverages | B7: =VLOOKUP(A7,'15-4'!$A$7:$B$19,2,0) -> 식료품 및 음료 | C7: 0.2347 | D7: 0.3035 | E7: 0.3335 | F7: 0.3252 | G7: 0.233 | H7: 0.3278 | I7: 0.3381 | J7: 0.3784 | K7: 0.3434 | L7: 0.3068 | M7: 0.435 | N7: 0.3635 | O7: 0.3419
A8: التبغ Tobacco | B8: =VLOOKUP(A8,'15-4'!$A$7:$B$19,2,0) -> 담배 | C8: 0.0067 | D8: 0.0088 | E8: 0.0088 | F8: 0.0039 | G8: 0.008 | H8: 0.0043 | I8: 0.0119 | J8: 0.01 | K8: 0.0141 | L8: 0.0049 | M8: 0.004 | N8: 0.0067 | O8: 0.0135
A9: الملابس والأحذية Clothing and footwear | B9: =VLOOKUP(A9,'15-4'!$A$7:$B$19,2,0) -> 의류 및 신발 | C9: 0.0965 | D9: 0.0922 | E9: 0.0919 | F9: 0.0846 | G9: 0.1047 | H9: 0.0868 | I9: 0.1038 | J9: 0.0919 | K9: 0.0962 | L9: 0.0927 | M9: 0.0925 | N9: 0.0908 | O9: 0.0959
A10: السكن والمياه والكهرباء والغاز وأنواع الوقود الأخرى Housing, water, electricity, gas and other fuels | B10: =VLOOKUP(A10,'15-4'!$A$7:$B$19,2,0) -> 주택, 수도, 전기, 가스 및 기타 연료 | C10: 0.1275 | D10: 0.189 | E10: 0.1426 | F10: 0.1227 | G10: 0.1344 | H10: 0.1178 | I10: 0.1224 | J10: 0.1349 | K10: 0.1283 | L10: 0.1068 | M10: 0.1302 | N10: 0.0835 | O10: 0.135
A11: المفروشات والمعدات المنزلية والصيانة المنزلية الروتينية Furnishings, household equipment and routine household maintenance | B11: =VLOOKUP(A11,'15-4'!$A$7:$B$19,2,0) -> 가구, 가사 비품 및 기타 생활용품 | C11: 0.0889 | D11: 0.0523 | E11: 0.0499 | F11: 0.0577 | G11: 0.0765 | H11: 0.0626 | I11: 0.0517 | J11: 0.0468 | K11: 0.0614 | L11: 0.0742 | M11: 0.0376 | N11: 0.0549 | O11: 0.052
A12: الصحة Health | B12: =VLOOKUP(A12,'15-4'!$A$7:$B$19,2,0) -> 보건 | C12: 0.0179 | D12: 0.017 | E12: 0.0206 | F12: 0.0231 | G12: 0.0179 | H12: 0.0295 | I12: 0.0174 | J12: 0.0151 | K12: 0.0152 | L12: 0.0233 | M12: 0.0126 | N12: 0.0204 | O12: 0.0145
A13: النقل Transport | B13: =VLOOKUP(A13,'15-4'!$A$7:$B$19,2,0) -> 운송 | C13: 0.1158 | D13: 0.0859 | E13: 0.0838 | F13: 0.1473 | G13: 0.1054 | H13: 0.1306 | I13: 0.0889 | J13: 0.1188 | K13: 0.1 | L13: 0.0901 | M13: 0.0896 | N13: 0.1363 | O13: 0.107
A14: المعلومات والاتصالات Information and communication | B14: =VLOOKUP(A14,'15-4'!$A$7:$B$19,2,0) -> 정보통신 | C14: 0.0528 | D14: 0.0503 | E14: 0.0478 | F14: 0.0599 | G14: 0.0515 | H14: 0.0596 | I14: 0.0471 | J14: 0.0552 | K14: 0.0549 | L14: 0.0416 | M14: 0.0452 | N14: 0.0439 | O14: 0.0464
A15: الترفيه والرياضة والثقافة Recreation, sport and culture | B15: =VLOOKUP(A15,'15-4'!$A$7:$B$19,2,0) -> 여가, 스포츠 및 문화 | C15: 0.0362 | D15: 0.0275 | E15: 0.0224 | F15: 0.0238 | G15: 0.0616 | H15: 0.0226 | I15: 0.0187 | J15: 0.015 | K15: 0.0236 | L15: 0.0413 | M15: 0.0167 | N15: 0.0468 | O15: 0.0239
A16: الخدمات التعليمية Education services | B16: =VLOOKUP(A16,'15-4'!$A$7:$B$19,2,0) -> 교육 서비스 | C16: 0.0272 | D16: 0.0045 | E16: 0.0067 | F16: 0.0063 | G16: 0.0113 | H16: 0.0046 | I16: 0.0045 | J16: 0.0021 | K16: 0.0063 | L16: 0.0023 | M16: 0.0014 | N16: 0.0009 | O16: 0.0036
A17: خدمات المطاعم والإقامة Restaurants and accommodation services | B17: =VLOOKUP(A17,'15-4'!$A$7:$B$19,2,0) -> 음식점 및 숙박 서비스 | C17: 0.1178 | D17: 0.1104 | E17: 0.1386 | F17: 0.0793 | G17: 0.1237 | H17: 0.0928 | I17: 0.1339 | J17: 0.0888 | K17: 0.094 | L17: 0.1547 | M17: 0.0841 | N17: 0.1028 | O17: 0.1077
A18: التأمين والخدمات المالية Insurance and financial services | B18: =VLOOKUP(A18,'15-4'!$A$7:$B$19,2,0) -> 보험 및 금융 서비스 | C18: 0.0122 | D18: 0.0099 | E18: 0.007 | F18: 0.0122 | G18: 0.0109 | H18: 0.0106 | I18: 0.0126 | J18: 0.0101 | K18: 0.0093 | L18: 0.0063 | M18: 0.0146 | N18: 0.0073 | O18: 0.015
A19: العناية الشخصية والحماية الاجتماعية والسلع والخدمات المتنوعة Personal care, social protection and miscellaneous goods and services | B19: =VLOOKUP(A19,'15-4'!$A$7:$B$19,2,0) -> 개인 미용, 사회보장, 기타 상품 및 서비스 | C19: 0.0659 | D19: 0.0486 | E19: 0.0463 | F19: 0.054 | G19: 0.0613 | H19: 0.0504 | I19: 0.0489 | J19: 0.033 | K19: 0.0531 | L19: 0.0549 | M19: 0.0366 | N19: 0.0421 | O19: 0.0435
A20: المصدر: مسح الدخل والإنفاق الإستهلاكي للأسرة 2023 - الهيئة العامة للإحصاء The Source: Household Income and Consumption Expenditure Survey 2023 - General Authority for Statistics
A21: *لأول مره في مسح الدخل والإنفاق الإستهلاكي للأسرة لعام 2023 يتم استخدام منهجية احتساب الدخل المتاح والإنفاق الإستهلاكي للأسرة For the first time the methodology for calculating household disposable income and consumption expenditure is used in Household Income and Consumption Expenditure Survey of 2023

Sheet 17-4
B1: الفهرس content
A2: نسبة الأسر التي تنفق على الصحة أكثر من 10% و 25% من إجمالي الإنفاق الاستهلاكي النقدي النهائي الشهري Percentage of Household Expenditure on health greater than 10% and 25% of Total Monthly Final Monetary Consumption Expenditure
A3: =VLOOKUP(A2,'content - الفهرس'!$B$4:$C$34,2,0) -> 월 최종소비지출의 10% 또는 25%를 초과하여 보건부문에 지출하는 비율
A4: جدول (4-17) (17-4) Table
A5: المؤشر Indicator 지표 | B5: النسبة Percentage 백분율
A6: نسبة الأسر التي تنفق على الصحة اكثر من 10% من إجمالي انفاقها Percentage of household expenditures on health greater than 10% of total household expenditure 최종소비지출의 10%를 초과하여 보건부문에 지출하는 비율 | B6: 0.019702637
A7: نسبة الأسر التي تنفق على الصحة أكثر من 25% من إجمالي انفاقها Percentage of household expenditures on health greater than 25% of total household expenditure 최종소비지출의 25%를 초과하여 보건부문에 지출하는 비율 | B7: 0.0017642105
A8: المصدر: مسح الدخل والإنفاق الإستهلاكي للأسرة 2023 - الهيئة العامة للإحصاء The Source: Household Income and Consumption Expenditure Survey 2023 - General Authority for Statistics
A9: *لأول مره في مسح الدخل والإنفاق الإستهلاكي للأسرة لعام 2023 يتم استخدام منهجية احتساب الدخل المتاح والإنفاق الإستهلاكي للأسرة For the first time the methodology for calculating household disposable income and consumption expenditure is used in Household Income and Consumption Expenditure Survey of 2023

Sheet 1-2
D1: الفهرس content
A2: متوسط الدخل الشهري المتاح للأسرة حسب المنطقة الإدارية والجنسية لرئيس الأسرة Average Household Monthly Disposable Income by Administrative Region and Nationality of Household Head
A3: جدول (2-1) (1-2) Table
A4: المنطقة الإدارية Administrative Region | B4: الجنسية Nationality
B5: السعوديين Saudi | C5: غير السعوديين Non Saudi | D5: الإجمالي Total
A6: الرياض Riyadh | B6: 25995 | C6: 6405 | D6: 14990
A7: مكة المكرمة Makkah | B7: 15577 | C7: 5425 | D7: 10141
A8: المدينة المنورة Madinah | B8: 12939 | C8: 5364 | D8: 9723
A9: القصيم Qassim | B9: 13958 | C9: 3902 | D9: 10081
A10: المنطقة الشرقية Eastern Province | B10: 18661 | C10: 5132 | D10: 11775
A11: عسير Asir | B11: 15820 | C11: 3371 | D11: 11264
A12: تبوك Tabuk | B12: 14341 | C12: 5642 | D12: 11127
A13: حائل Hail | B13: 13495 | C13: 3075 | D13: 9269
A14: الحدود الشمالية Northern Border | B14: 16427 | C14: 5398 | D14: 12868
A15: جازان Jazan | B15: 14010 | C15: 4034 | D15: 10763
A16: نجران Najran | B16: 10979 | C16: 3556 | D16: 7969
A17: الباحة AL - Baha | B17: 14471 | C17: 4806 | D17: 11348
... A19: الإجمالي Total | B19: 18056 | C19: 5428 | D19: 11839
A20: المصدر: مسح الدخل والإنفاق الإستهلاكي للأسرة 2023 - الهيئة العامة للإحصاء The Source: Household Income and Consumption Expenditure Survey 2023 - General Authority for Statistics
A21: *لأول مره في مسح الدخل والإنفاق الإستهلاكي للأسرة لعام 2023 يتم استخدام منهجية احتساب الدخل المتاح والإنفاق الإستهلاكي للأسرة For the first time the methodology for calculating household disposable income and consumption expenditure is used in Household Income and Consumption Expenditure Survey of 2023

Sheet 2-2
D1: الفهرس content
A2: وسيط الدخل الشهري المتاح للأسرة حسب المنطقة الإدارية والجنسية لرئيس الأسرة Median Household Monthly Disposable Income by Administrative Region and Nationality of Household Head
A3: جدول (2-2) (2-2) Table
A4: المنطقة الإدارية Administrative Region | B4: الجنسية Nationality
B5: السعوديين Saudi | C5: غير السعوديين Non Saudi | D5: الإجمالي Total
A6: الرياض Riyadh | B6: 18581 | C6: 3943 | D6: 8000
A7: مكة المكرمة Makkah | B7: 12900 | C7: 3914 | D7: 6547
A8: المدينة المنورة Madinah | B8: 10493 | C8: 3781 | D8: 6944
A9: القصيم Qassim | B9: 11532 | C9: 2753 | D9: 7000
A10: المنطقة الشرقية Eastern Province | B10: 14909 | C10: 3660 | D10: 7341
A11: عسير Asir | B11: 12332 | C11: 2500 | D11: 7793
A12: تبوك Tabuk | B12: 11999 | C12: 3850 | D12: 9121
A13: حائل Hail | B13: 11798 | C13: 2269 | D13: 5948
A14: الحدود الشمالية Northern Border | B14: 13700 | C14: 4116 | D14: 9826
A15: جازان Jazan | B15: 11785 | C15: 2905 | D15: 8419
A16: نجران Najran | B16: 9744 | C16: 2397 | D16: 5332
A17: الباحة AL - Baha | B17: 11948 | C17: 2577 | D17: 8504
... A19: الإجمالي Total | B19: 13655 | C19: 3657 | D19: 7362
A20: المصدر: مسح الدخل والإنفاق الإستهلاكي للأسرة 2023 - الهيئة العامة للإحصاء The Source: Household Income and Consumption Expenditure Survey 2023 - General Authority for Statistics
A21: *لأول مره في مسح الدخل والإنفاق الإستهلاكي للأسرة لعام 2023 يتم استخدام منهجية احتساب الدخل المتاح والإنفاق الإستهلاكي للأسرة For the first time the methodology for calculating household disposable income and consumption expenditure is used in Household Income and Consumption Expenditure Survey of 2023

Sheet 3-2
D1: الفهرس content
A2: متوسط الدخل الشهري المتاح للأسرة حسب الفئة العمرية والجنسية لرئيس الأسرة Average Household Monthly Disposable Income by Age Group and Nationality of Household Head
A3: جدول (2-3) (3-2) Table
A4: الفئات العمرية Age Group | B4: الجنسية Nationality
B5: السعوديين Saudi | C5: غير السعوديين Non Saudi | D5: الإجمالي Total
A6: 15 - 19 | B6: 5108 | C6: 3432 | D6: 4914
A7: 20 - 24 | B7: 8461 | C7: 3514 | D7: 6327
A8: 25 - 29 | B8: 10997 | C8: 4495 | D8: 7522
A9: 30 - 34 | B9: 13154 | C9: 4709 | D9: 8809
A10: 35 - 39 | B10: 16984 | C10: 5831 | D10: 10675
A11: 40 - 44 | B11: 18132 | C11: 5440 | D11: 11201
A12: 45 - 49 | B12: 21752 | C12: 5432 | D12: 13449
A13: 50 - 54 | B13: 23691 | C13: 5731 | D13: 14926
A14: 55 - 59 | B14: 26146 | C14: 6330 | D14: 17512
A15: 60 - 64 | B15: 23025 | C15: 6460 | D15: 16216
A16: 65+ | B16: 17364 | C16: 6242 | D16: 14866
A17: الإجمالي Total | B17: 18056 | C17: 5428 | D17: 11839
A18: المصدر: مسح الدخل والإنفاق الإستهلاكي للأسرة 2023 - الهيئة العامة للإحصاء The Source: Household Income and Consumption Expenditure Survey 2023 - General Authority for Statistics
A19: *لأول مره في مسح الدخل والإنفاق الإستهلاكي للأسرة لعام 2023 يتم استخدام منهجية احتساب الدخل المتاح والإنفاق الإستهلاكي للأسرة For the first time the methodology for calculating household disposable income and consumption expenditure is used in Household Income and Consumption Expenditure Survey of 2023

Sheet 4-2
D1: الفهرس content
A2: متوسط الدخل الشهري المتاح للأسرة حسب المستوى التعليمي والجنسية لرئيس الأسرة Average Household Monthly Disposable Income by Educational Level and Nationality of Household Head
A3: جدول (2-4) (4-2) Table
A4: المستوى التعليمي Educational Level | B4: الجنسية Nationality
B5: السعوديين Saudi | C5: غير السعوديين Non Saudi | D5: الإجمالي Total
A6: لا يوجد شهادة تعليمية No schooling | B6: 7700 | C6: 3422 | D6: 5792
A7: تعليم الطفولة المبكرة Early childhood education | B7: 9326 | C7: 5924 | D7: 7243
A8: تعليم ابتدائي Primary education | B8: 11427 | C8: 3494 | D8: 6237
A9: تعليم متوسط Intermediate education | B9: 14452 | C9: 3600 | D9: 6345
A10: تعليم ثانوي Secondary education | B10: 13901 | C10: 4367 | D10: 9165
A11: دبلوم مشارك Associate diploma | B11: 16787 | C11: 5792 | D11: 12246
A12: دبلوم متوسط Intermediate diploma | B12: 17898 | C12: 4984 | D12: 12122
A13: بكالوريوس أو ما يعادلها Bachelor’s or equivalent level | B13: 22136 | C13: 9449 | D13: 18014
A14: دبلوم عالي Higher diploma | B14: 22816 | C14: 9796 | D14: 19173
A15: ماجستير أو ما يعادلها Master’s or equivalent level | B15: 40342 | C15: 17729 | D15: 33012
A16: دكتوراه Doctoral or equivalent level | B16: 37355 | C16: 17449 | D16: 27885
A17: الإجمالي Total | B17: 18056 | C17: 5428 | D17: 11839
A18: المصدر: مسح الدخل والإنفاق الإستهلاكي للأسرة 2023 - الهيئة العامة للإحصاء The Source: Household Income and Consumption Expenditure Survey 2023 - General Authority for Statistics
A19: *لأول مره في مسح الدخل والإنفاق الإستهلاكي للأسرة لعام 2023 يتم استخدام منهجية احتساب الدخل المتاح والإنفاق الإستهلاكي للأسرة For the first time the methodology for calculating household disposable income and consumption expenditure is used in Household Income and Consumption Expenditure Survey of 2023

Sheet 5-2
D1: الفهرس content
A2: متوسط الدخل الشهري المتاح للأسرة حسب الحالة الزواجية والجنسية لرئيس الأسرة Average Household Monthly Disposable Income by Marital Status and Nationality of Household Head
A3: جدول (2-5) (5-2) Table
A4: الحالة الزواجية Marital Status | B4: الجنسية Nationality
B5: السعوديين Saudi | C5: غير السعوديين Non Saudi | D5: الإجمالي Total
A6: لم يتزوج أبدا Never Married | B6: 10391 | C6: 4585 | D6: 6651
A7: متزوج Married | B7: 19966 | C7: 5596 | D7: 12685
A8: مطلق Divorced | B8: 12143 | C8: 4882 | D8: 11061
A9: أرمل Widowed | B9: 11082 | C9: 4397 | D9: 10680
A10: الإجمالي Total | B10: 18056 | C10: 5428 | D10: 11839
A11: المصدر: مسح الدخل والإنفاق الإستهلاكي للأسرة 2023 - الهيئة العامة للإحصاء The Source: Household Income and Consumption Expenditure Survey 2023 - General Authority for Statistics
A12: *لأول مره في مسح الدخل والإنفاق الإستهلاكي للأسرة لعام 2023 يتم استخدام منهجية احتساب الدخل المتاح والإنفاق الإستهلاكي للأسرة For the first time the methodology for calculating household disposable income and consumption expenditure is used in Household Income and Consumption Expenditure Survey of 2023

Sheet 6-2
D1: الفهرس content
A2: متوسط الدخل الشهري المتاح للأسرة حسب نوع المسكن والجنسية لرئيس الأسرة Average Household Monthly Disposable Income by Type of Dwelling and Nationality of Household Head
A3: جدول (2-6) (6-2) Table
A4: نوع المسكن Type of Dwelling | B4: الجنسية Nationality
B5: السعوديين Saudi | C5: غير السعوديين Non Saudi | D5: الإجمالي Total
A6: فيلا Villa | B6: 30167 | C6: 24313 | D6: 29965
A7: دور في فيلا Storey in Villa | B7: 17373 | C7: 11442 | D7: 16688
A8: شقة Apartment | B8: 12897 | C8: 5527 | D8: 8319
A9: منزل شعبي Traditional house | B9: 10353 | C9: 3826 | D9: 7448
A10: دور في منزل شعبي Storey in traditional house | B10: 10866 | C10: 4756 | D10: 6494
A11: اخرى Other | B11: 14262 | C11: 2444 | D11: 3249
A12: الإجمالي Total | B12: 18056 | C12: 5428 | D12: 11839
A13: المصدر: مسح الدخل والإنفاق الإستهلاكي للأسرة 2023 - الهيئة العامة للإحصاء The Source: Household Income and Consumption Expenditure Survey 2023 - General Authority for Statistics
A14: *لأول مره في مسح الدخل والإنفاق الإستهلاكي للأسرة لعام 2023 يتم استخدام منهجية احتساب الدخل المتاح والإنفاق الإستهلاكي للأسرة For the first time the methodology for calculating household disposable income and consumption expenditure is used in Household Income and Consumption Expenditure Survey of 2023

Sheet 7-2 
D1: الفهرس content
A2: متوسط الدخل الشهري المتاح للأسرة حسب نوع الحيازة والجنسية لرئيس الأسرة Average Household Monthly Disposable Income by Type of ownership and Nationality of Household Head
A3: جدول (2-7) (7-2) Table
A4: نوع الحيازة Type of ownership | B4: الجنسية Nationality
B5: السعوديين Saudi | C5: غير السعوديين Non Saudi | D5: الإجمالي Total
A6: مملوك Owned | B6: 21494 | C6: 12144 | D6: 21368
A7: مستأجر Rented | B7: 13202 | C7: 5599 | D7: 8208
A8: مقدم من العمل Provided by an employer | B8: 24097 | C8: 4903 | D8: 5808
A9: مقدم من الغير Provided by others | B9: 11666 | C9: 4142 | D9: 10897
A10: أخرى Other | B10: 11198 | C10: 5919 | D10: 8801
A11: الإجمالي Total | B11: 18056 | C11: 5428 | D11: 11839
A12: المصدر: مسح الدخل والإنفاق الإستهلاكي للأسرة 2023 - الهيئة العامة للإحصاء The Source: Household Income and Consumption Expenditure Survey 2023 - General Authority for Statistics
A13: *لأول مره في مسح الدخل والإنفاق الإستهلاكي للأسرة لعام 2023 يتم استخدام منهجية احتساب الدخل المتاح والإنفاق الإستهلاكي للأسرة For the first time the methodology for calculating household disposable income and consumption expenditure is used in Household Income and Consumption Expenditure Survey of 2023

Sheet 8-2
D1: الفهرس content
A2: متوسط الدخل الشهري المتاح للأسرة حسب حجم الأسرة والجنسية لرئيس الأسرة Average Household Monthly Disposable Income by Household Size and Nationality of Household Head
A3: جدول (2-8) (8-2) Table
A4: حجم الأسرة Household Size | B4: الجنسية Nationality
B5: السعوديين Saudi | C5: غير السعوديين Non Saudi | D5: الإجمالي Total
A6: 1-2 | B6: 10794 | C6: 3969 | D6: 6013
A7: 3-4 | B7: 17001 | C7: 6245 | D7: 11471
A8: 5+ | B8: 22010 | C8: 8878 | D8: 19038
A9: الإجمالي Total | B9: 18056 | C9: 5428 | D9: 11839
A10: المصدر: مسح الدخل والإنفاق الإستهلاكي للأسرة 2023 - الهيئة العامة للإحصاء The Source: Household Income and Consumption Expenditure Survey 2023 - General Authority for Statistics
A11: *لأول مره في مسح الدخل والإنفاق الإستهلاكي للأسرة لعام 2023 يتم استخدام منهجية احتساب الدخل المتاح والإنفاق الإستهلاكي للأسرة For the first time the methodology for calculating household disposable income and consumption expenditure is used in Household Income and Consumption Expenditure Survey of 2023

Sheet 9-2
D1: الفهرس content
A2: نسبة الدخل الشهري المتاح للأسرة حسب مصادر الدخل والجنسية لرئيس الأسرة Percentage of Household Monthly Disposable Income by Income Sources and Nationality of Household Head
A3: جدول (2-9) (9-2) Table
A4: مصادر الدخل Income Sources | B4: الجنسية Nationality
B5: السعوديين Saudi | C5: غير السعوديين Non Saudi | D5: الإجمالي Total
A6: العمل Labor | B6: 58.69 | C6: 74.75 | D6: 66.6
A7: الممتلكات Property | B7: 1.16 | C7: 0.05 | D7: 0.62
A8: التحويلات المستلمة Transfer in | B8: 27.08 | C8: 1.22 | D8: 14.35
A9: الإيجار التقديري Imputed Rent | B9: 11.44 | C9: 5.47 | D9: 8.5
A10: التحويلات المدفوعة Transfer paid out | B10: -1.63 | C10: -18.51 | D10: -9.94
A11: المصدر: مسح الدخل والإنفاق الإستهلاكي للأسرة 2023 - الهيئة العامة للإحصاء The Source: Household Income and Consumption Expenditure Survey 2023 - General Authority for Statistics
A12: *لأول مره في مسح الدخل والإنفاق الإستهلاكي للأسرة لعام 2023 يتم استخدام منهجية احتساب الدخل المتاح والإنفاق الإستهلاكي للأسرة For the first time the methodology for calculating household disposable income and consumption expenditure is used in Household Income and Consumption Expenditure Survey of 2023

Sheet 10-2
D1: الفهرس content
A2: متوسط الدخل الشهري المتاح للفرد حسب المنطقة الإدارية والجنسية Average Per-Capita Monthly Disposable Income by Administrative Region and Nationality
A3: جدول (2-10) (10-2) Table
A4: المنطقة الإدارية Administrative Region | B4: الجنسية Nationality
B5: السعوديين Saudi | C5: غير السعوديين Non Saudi | D5: الإجمالي Total
A6: الرياض Riyadh | B6: 5941 | C6: 2341 | D6: 4339
A7: مكة المكرمة Makkah | B7: 3610 | C7: 1812 | D7: 2811
A8: المدينة المنورة Madinah | B8: 2829 | C8: 1646 | D8: 2421
A9: القصيم Qassim | B9: 2920 | C9: 1355 | D9: 2491
A10: المنطقة الشرقية Eastern Province | B10: 4243 | C10: 1882 | D10: 3319
A11: عسير Asir | B11: 3366 | C11: 1342 | D11: 2889
A12: تبوك Tabuk | B12: 2950 | C12: 1937 | D12: 2687
A13: حائل Hail | B13: 2682 | C13: 1346 | D13: 2366
A14: الحدود الشمالية Northern Border | B14: 2945 | C14: 1609 | D14: 2647
A15: جازان Jazan | B15: 2795 | C15: 1195 | D15: 2403
A16: نجران Najran | B16: 2046 | C16: 1232 | D16: 1828
A17: الباحة AL - Baha | B17: 3216 | C17: 2052 | D17: 2985
... A19: الإجمالي Total | B19: 3977 | C19: 1908 | D19: 3195
A20: المصدر: مسح الدخل والإنفاق الإستهلاكي للأسرة 2023 - الهيئة العامة للإحصاء The Source: Household Income and Consumption Expenditure Survey 2023 - General Authority for Statistics
A21: *لأول مره في مسح الدخل والإنفاق الإستهلاكي للأسرة لعام 2023 يتم استخدام منهجية احتساب الدخل المتاح والإنفاق الإستهلاكي للأسرة For the first time the methodology for calculating household disposable income and consumption expenditure is used in Household Income and Consumption Expenditure Survey of 2023

Sheet 11-2
D1: الفهرس content
A2: وسيط الدخل الشهري المتاح للفرد حسب المنطقة الإدارية والجنسية Median Per-Capita Monthly Disposable Income by Administrative Region and Nationality
A3: جدول (2-11) (11-2) Table
A4: المنطقة الإدارية Administrative Region | B4: الجنسية Nationality
B5: السعوديين Saudi | C5: غير السعوديين Non Saudi | D5: الإجمالي Total
A6: الرياض Riyadh | B6: 4288 | C6: 1688 | D6: 2782
A7: مكة المكرمة Makkah | B7: 2814 | C7: 1333 | D7: 2100
A8: المدينة المنورة Madinah | B8: 2234 | C8: 1316 | D8: 1815
A9: القصيم Qassim | B9: 2428 | C9: 1124 | D9: 1939
A10: المنطقة الشرقية Eastern Province | B10: 3295 | C10: 1350 | D10: 2306
A11: عسير Asir | B11: 2715 | C11: 1058 | D11: 2254
A12: تبوك Tabuk | B12: 2374 | C12: 1469 | D12: 2141
A13: حائل Hail | B13: 2373 | C13: 1135 | D13: 1890
A14: الحدود الشمالية Northern Border | B14: 2496 | C14: 1447 | D14: 2181
A15: جازان Jazan | B15: 2307 | C15: 867 | D15: 1871
A16: نجران Najran | B16: 1650 | C16: 844 | D16: 1283
A17: الباحة AL - Baha | B17: 2601 | C17: 1305 | D17: 2341
... A19: الإجمالي Total | B19: 2896 | C19: 1372 | D19: 2220
A20: المصدر: مسح الدخل والإنفاق الإستهلاكي للأسرة 2023 - الهيئة العامة للإحصاء The Source: Household Income and Consumption Expenditure Survey 2023 - General Authority for Statistics
A21: *لأول مره في مسح الدخل والإنفاق الإستهلاكي للأسرة لعام 2023 يتم استخدام منهجية احتساب الدخل المتاح والإنفاق الإستهلاكي للأسرة For the first time the methodology for calculating household disposable income and consumption expenditure is used in Household Income and Consumption Expenditure Survey of 2023

Sheet 12-2
D1: الفهرس content
A2: نسبة الدخل الشهري المتاح للفرد حسب مصادر الدخل والجنسية Percentage of Per-Capita Monthly Disposable Income by Income Sources and Nationality
A3: جدول (2-12) (12-2) Table
A4: مصادر الدخل Income Sources | B4: الجنسية Nationality
B5: السعوديين Saudi | C5: غير السعوديين Non Saudi | D5: الإجمالي Total
A6: العمل Labor | B6: 58.868 | C6: 77.907 | D6: 66.063
A7: الممتلكات Property | B7: 1.175 | C7: 0.077 | D7: 0.76
A8: التحويلات المستلمة Transfer in | B8: 27.495 | C8: 1.889 | D8: 17.818
A9: الإيجار التقديري Imputed Rent | B9: 10.866 | C9: 4.079 | D9: 8.302
A10: التحويلات المدفوعة Transfer paid out | B10: -1.596 | C10: -16.048 | D10: -7.057
A11: المصدر: مسح الدخل والإنفاق الإستهلاكي للأسرة 2023 - الهيئة العامة للإحصاء The Source: Household Income and Consumption Expenditure Survey 2023 - General Authority for Statistics
A12: *لأول مره في مسح الدخل والإنفاق الإستهلاكي للأسرة لعام 2023 يتم استخدام منهجية احتساب الدخل المتاح والإنفاق الإستهلاكي للأسرة For the first time the methodology for calculating household disposable income and consumption expenditure is used in Household Income and Consumption Expenditure Survey of 2023
